BEGIN:VCALENDAR
VERSION:2.0
PRODID:-//Gold Coast Schools - ECPv6.15.20//NONSGML v1.0//EN
CALSCALE:GREGORIAN
METHOD:PUBLISH
X-WR-CALNAME:Gold Coast Schools
X-ORIGINAL-URL:https://goldcoastschools.com
X-WR-CALDESC:Events for Gold Coast Schools
REFRESH-INTERVAL;VALUE=DURATION:PT1H
X-Robots-Tag:noindex
X-PUBLISHED-TTL:PT1H
BEGIN:VTIMEZONE
TZID:America/New_York
BEGIN:DAYLIGHT
TZOFFSETFROM:-0500
TZOFFSETTO:-0400
TZNAME:EDT
DTSTART:20250309T070000
END:DAYLIGHT
BEGIN:STANDARD
TZOFFSETFROM:-0400
TZOFFSETTO:-0500
TZNAME:EST
DTSTART:20251102T060000
END:STANDARD
BEGIN:DAYLIGHT
TZOFFSETFROM:-0500
TZOFFSETTO:-0400
TZNAME:EDT
DTSTART:20260308T070000
END:DAYLIGHT
BEGIN:STANDARD
TZOFFSETFROM:-0400
TZOFFSETTO:-0500
TZNAME:EST
DTSTART:20261101T060000
END:STANDARD
BEGIN:DAYLIGHT
TZOFFSETFROM:-0500
TZOFFSETTO:-0400
TZNAME:EDT
DTSTART:20270314T070000
END:DAYLIGHT
BEGIN:STANDARD
TZOFFSETFROM:-0400
TZOFFSETTO:-0500
TZNAME:EST
DTSTART:20271107T060000
END:STANDARD
END:VTIMEZONE
BEGIN:VEVENT
DTSTART;TZID=America/New_York:20260421T183000
DTEND;TZID=America/New_York:20260421T210000
DTSTAMP:20260421T014406
CREATED:20250429T232801Z
LAST-MODIFIED:20260420T173233Z
UID:10008320-1776796200-1776805200@goldcoastschools.com
SUMMARY:Roofing Trade Exam Prep
DESCRIPTION:Roofing Weeknight Class:  Zoom | Available In English Only \nWelcome to the Roofing Weeknight Class. This Roofing-Specific Trade Exam Prep class will be hosted during select weeknights from 6:30pm to 9:00pm via Zoom only – no in class option. Please have all of your Trade books available for each class – click here to access the most recent list of the reference books allowed for the Roofing Exam: http://www.myfloridalicense.com/DBPR/examination-information/construction-examinations-reference-lists/ \n  \nClick here to access the DBPR Candidate Information Booklet for all Division I and II License Categories (Excluding Plumbing): http://www.myfloridalicense.com/dbpr/servop/testing/documents/const_cib.pdf \n  \nClick this link for a list of Gold Coast Schools Campus locations: https://goldcoastschools.com/about-us/gold-coast-campus-locations/ \n  \nIf you have any questions about your Contractor Exam Prep Program\, please reach out to us at Contractor@GoldCoastSchools.com or call us at 1-800-732-9140.
URL:https://goldcoastschools.com/event/roofing-weeknight-class-zoom-only-no-in-class-option-2-2/2026-04-21/
CATEGORIES:Roofing Contractor
END:VEVENT
BEGIN:VEVENT
DTSTART;TZID=America/New_York:20260421T183000
DTEND;TZID=America/New_York:20260421T210000
DTSTAMP:20260421T014406
CREATED:20260219T183705Z
LAST-MODIFIED:20260420T130127Z
UID:10007974-1776796200-1776805200@goldcoastschools.com
SUMMARY:A/C Trade Exam Prep
DESCRIPTION:AC and Mechanical Weeknight Class – English | Zoom Only \nWelcome to the AC and Mechanical weeknight exam prep session. This AC Trade-Specific content review session is for students wishing to obtain their Class A/B or Mechanical Contractors licenses and will be held the last two Wednesdays of each month from 6:30pm to 9:00pm via Zoom-Only. Bring all of your Trade books to the weeknight Trade classes – click here to access the most recent list of the reference books allowed for the AC and Mechanical Exams: http://www.myfloridalicense.com/DBPR/examination-information/construction-examinations-reference-lists/ \n  \nClick here to access the DBPR Candidate Information Booklet for all Division I and II License Categories (Excluding Plumbing): http://www.myfloridalicense.com/dbpr/servop/testing/documents/const_cib.pdf \n  \nClick here for a list of Gold Coast Schools Campus locations: https://goldcoastschools.com/about-us/gold-coast-campus-locations/ \n  \nIf you have any questions about your Contractor Exam Prep Program\, please reach out to us at Contractor@GoldCoastSchools.com or call us at 1-800-732-9140.
URL:https://goldcoastschools.com/event/a-c-trade-exam-prep/2026-04-21/
CATEGORIES:AC (A/B) and Mechanical
END:VEVENT
BEGIN:VEVENT
DTSTART;TZID=America/New_York:20260421T183000
DTEND;TZID=America/New_York:20260421T210000
DTSTAMP:20260421T014406
CREATED:20260219T202652Z
LAST-MODIFIED:20260420T151053Z
UID:10008005-1776796200-1776805200@goldcoastschools.com
SUMMARY:Electric Module 4
DESCRIPTION:Electrical Contractor Exam Prep Module 4 Electric/Alarm/LV Books – English  (Zoom Only) \nWelcome to the Weeknight Florida Electrical Contractor Exam Prep Class. The purpose of each Module class is to prepare you for content that will be covered on the Electrical Contractor exam. The Instructor will guide you through the content for each Module\, reviewing important concepts and reference book sections that have traditionally been on previous exams. Weeknight Module classes are hosted the last two (2) weeks of the month\, Tuesdays and Thursdays from 6:30pm to 9:00pm (Zoom-Only). \nIf you have any questions about your Contractor Exam Prep Program\, please reach out to us at Contractor@GoldCoastSchools.com or call us at 1-800-732-9140.
URL:https://goldcoastschools.com/event/electric-module-4/2026-04-21/
CATEGORIES:Electrical Contractor
END:VEVENT
BEGIN:VEVENT
DTSTART;TZID=America/New_York:20260421T183000
DTEND;TZID=America/New_York:20260421T210000
DTSTAMP:20260421T014406
CREATED:20260323T175356Z
LAST-MODIFIED:20260323T175356Z
UID:10008000-1776796200-1776805200@goldcoastschools.com
SUMMARY:CA/PM Module 10A
DESCRIPTION:Module 10A: Estimates and Takeoffs / Contracts and Payments – Kendall (In-Person & Zoom) – English & Spanish \nWelcome to the Weeknight Division I (GC\, BC\, RC) Trade Exam Prep Module Class. The purpose of each Module class is to prepare you for content that will be covered on the Contract Administration and Project Management exams. The Instructor will guide you through the content for each Module\, reviewing important concepts and reference book sections that have traditionally been on previous exams. Weeknight Module classes are hosted Monday – Thursday from 6:30pm to 9:00pm (on-campus or via Zoom) and Friday (Zoom-Only) from 4:00pm to 6:30pm (note the early start time on Fridays). \n  \nNOTE: You will need the Module 10 Commercial Plan Set for this Module. Please find a PDF copy of these drawings (Module 10 Plan Set for the Commercial Plans) in the ‘How To Videos and Resources’ drop down menu in your student account. If you would like a PDF copy of this plan set sent to you\, please email your request to Contractor@GoldCoastSchools.com – include your student ID number in the email. \n  \nHere is a list of the Module Classes required for your Division I Exam Prep Program and the reference books to bring for each Module. We recommend that you attend the Live weeknight classes or watch the On-Demand video of each Module at least twice. Then\, attempt the Module Practice Exams to measure how well you can find the answers in the reference books. \n  \nModule 8A: Florida Building Code – Building Only: Florida Building Code – Building \nModule 8B: Florida Building Code – All Other Code Books: Florida Building Code – Residential; Accessibility; Energy Conservation; Existing Building \nModule 9: General Trade Knowledge Review – Trade Books Allowed into Exams: OSHA\, Building Comp Safety Info – “Truss Book”\, Energy Efficient Building Construction\, Principles & Practices of Commercial Construction \nModule 10A: Estimates & Takeoffs / Contracts & Payments: Contractors Manual and AIA Documents 201\, 401 and 701\, Walker’s Building Estimator’s Reference Book \nModule 10B: Plan Reading / Construction Math / Project Management: Contractors Manual \n  \nClick this link to access the most recent list of the reference books allowed for the Contract Administration and Project Management Exams: http://www.myfloridalicense.com/DBPR/examination-information/construction-examinations-reference-lists/ \n  \nClick this link for a list of Gold Coast Schools Campus locations: https://goldcoastschools.com/about-us/gold-coast-campus-locations/ \n  \nIf you have any questions about your Contractor Exam Prep Program\, please reach out to us at Contractor@GoldCoastSchools.com or call us at 1-800-732-9140.
URL:https://goldcoastschools.com/event/ca-pm-module-10a-2/
END:VEVENT
END:VCALENDAR