BEGIN:VCALENDAR
VERSION:2.0
PRODID:-//Gold Coast Schools - ECPv6.15.20//NONSGML v1.0//EN
CALSCALE:GREGORIAN
METHOD:PUBLISH
X-WR-CALNAME:Gold Coast Schools
X-ORIGINAL-URL:https://goldcoastschools.com
X-WR-CALDESC:Events for Gold Coast Schools
REFRESH-INTERVAL;VALUE=DURATION:PT1H
X-Robots-Tag:noindex
X-PUBLISHED-TTL:PT1H
BEGIN:VTIMEZONE
TZID:America/New_York
BEGIN:DAYLIGHT
TZOFFSETFROM:-0500
TZOFFSETTO:-0400
TZNAME:EDT
DTSTART:20250309T070000
END:DAYLIGHT
BEGIN:STANDARD
TZOFFSETFROM:-0400
TZOFFSETTO:-0500
TZNAME:EST
DTSTART:20251102T060000
END:STANDARD
BEGIN:DAYLIGHT
TZOFFSETFROM:-0500
TZOFFSETTO:-0400
TZNAME:EDT
DTSTART:20260308T070000
END:DAYLIGHT
BEGIN:STANDARD
TZOFFSETFROM:-0400
TZOFFSETTO:-0500
TZNAME:EST
DTSTART:20261101T060000
END:STANDARD
BEGIN:DAYLIGHT
TZOFFSETFROM:-0500
TZOFFSETTO:-0400
TZNAME:EDT
DTSTART:20270314T070000
END:DAYLIGHT
BEGIN:STANDARD
TZOFFSETFROM:-0400
TZOFFSETTO:-0500
TZNAME:EST
DTSTART:20271107T060000
END:STANDARD
END:VTIMEZONE
BEGIN:VEVENT
DTSTART;TZID=America/New_York:20260424T080000
DTEND;TZID=America/New_York:20260424T180000
DTSTAMP:20260424T094521
CREATED:20260323T194041Z
LAST-MODIFIED:20260323T194041Z
UID:10008301-1777017600-1777053600@goldcoastschools.com
SUMMARY:Home Inspection Week 3
DESCRIPTION:Hi-Pre W3-4 – English: Tamarac (In-Person)\, East Orlando (In-Person)\, Zoom | Spanish: Tamarac (In-Person & Zoom)  \nWelcome to the 120-hour state-approved Home Inspection pre-licensing course. This Live class is designed to provide you with the fundamentals required to become a licensed Home Inspector in the State of Florida. Attendance for each class is REQUIRED\, and certificates are only issued after successful completion of the entire course. Class starts at 8:00am and ends at 6:00pm each day. Please bring all reference book materials\, highlighters\, notebook\, and writing utensil to every class. This is your training class\, so be ready to learn the most important aspects of the inspection process. \n  \nNOTE: If you attend classes via Zoom\, you must only attend via Zoom. If you attend classes in person\, you must only attend in person. Students cannot switch formats during the session. If you feel like you are in the wrong format\, please contact us right away via email at Contractor@GoldCoastSchools.com. \n  \nPlease ask your Instructor about the Hands-On Inspection Experience\, the Wind Mitigation Training for Home Inspectors\, and the Weekend Exam Prep Workshop. \n  \nClick this link for a list of Gold Coast Schools Campus locations: https://goldcoastschools.com/about-us/gold-coast-campus-locations/ \n  \nIf you have any questions about your Home Inspection Program\, please reach out to us at Contractor@GoldCoastSchools.com or call us at 1-800-732-9140.
URL:https://goldcoastschools.com/event/home-inspection-week-3/2026-04-24/
CATEGORIES:Home Inspector
END:VEVENT
END:VCALENDAR