BEGIN:VCALENDAR
VERSION:2.0
PRODID:-//Gold Coast Schools - ECPv6.15.20//NONSGML v1.0//EN
CALSCALE:GREGORIAN
METHOD:PUBLISH
X-ORIGINAL-URL:https://goldcoastschools.com
X-WR-CALDESC:Events for Gold Coast Schools
REFRESH-INTERVAL;VALUE=DURATION:PT1H
X-Robots-Tag:noindex
X-PUBLISHED-TTL:PT1H
BEGIN:VTIMEZONE
TZID:America/New_York
BEGIN:DAYLIGHT
TZOFFSETFROM:-0500
TZOFFSETTO:-0400
TZNAME:EDT
DTSTART:20240310T070000
END:DAYLIGHT
BEGIN:STANDARD
TZOFFSETFROM:-0400
TZOFFSETTO:-0500
TZNAME:EST
DTSTART:20241103T060000
END:STANDARD
BEGIN:DAYLIGHT
TZOFFSETFROM:-0500
TZOFFSETTO:-0400
TZNAME:EDT
DTSTART:20250309T070000
END:DAYLIGHT
BEGIN:STANDARD
TZOFFSETFROM:-0400
TZOFFSETTO:-0500
TZNAME:EST
DTSTART:20251102T060000
END:STANDARD
BEGIN:DAYLIGHT
TZOFFSETFROM:-0500
TZOFFSETTO:-0400
TZNAME:EDT
DTSTART:20260308T070000
END:DAYLIGHT
BEGIN:STANDARD
TZOFFSETFROM:-0400
TZOFFSETTO:-0500
TZNAME:EST
DTSTART:20261101T060000
END:STANDARD
END:VTIMEZONE
BEGIN:VEVENT
DTSTART;TZID=America/New_York:20250203T170000
DTEND;TZID=America/New_York:20250203T180000
DTSTAMP:20260419T091004
CREATED:20240213T140321Z
LAST-MODIFIED:20251113T192130Z
UID:10004168-1738602000-1738605600@goldcoastschools.com
SUMMARY:Student Orientation - Zoom Only
DESCRIPTION:Welcome to the Gold Coast School of Construction Student Orientation hosted every Monday from 5:00pm to 6:30pm via Zoom-Only. \n  \nThis is an extremely important session for newer students\, though any active student is welcome to attend. In this session\, we review how to register with the state to obtain your Candidate ID number\, how to schedule your exam with Pearson Vue\, and how to access the applications when you are ready to apply for your license. \n  \nWe also review the Candidate Handbook for all Division I and Division II license categories. In addition\, we will review how to access your student account\, how to navigate the Program Schedule\, how to find the Zoom links for your weeknight classes and workshops\, as well as how to launch the hundreds of Practice Exam questions included in your tuition. \n  \nThe Orientation Zoom link is located in your student account. \n  \nClick this link to access the most recent list of the reference books allowed for the Business and Finance Exam and the Division I and II Trade exams: http://www.myfloridalicense.com/DBPR/examination-information/construction-examinations-reference-lists/ \n  \nClick this link for a list of Gold Coast Schools Campus locations: https://goldcoastschools.com/about-us/gold-coast-campus-locations/ \n  \nIf you have any questions about your Contractor Exam Prep Program\, please reach out to us at Contractor@GoldCoastSchools.com or call us at 1-800-732-9140.
URL:https://goldcoastschools.com/event/student-orientation-zoom-only-2-2/2025-02-03/
CATEGORIES:AC (A/B) and Mechanical,Building Inspector,General Contractor,Home Inspector,Industry Training,Plumbing Contractor,Pool / Spa Contractor,Roofing Contractor
END:VEVENT
BEGIN:VEVENT
DTSTART;TZID=America/New_York:20250205T110000
DTEND;TZID=America/New_York:20250205T130000
DTSTAMP:20260419T091004
CREATED:20230409T004340Z
LAST-MODIFIED:20251120T160602Z
UID:10004876-1738753200-1738760400@goldcoastschools.com
SUMMARY:Office Hours - Zoom Only - Bring Your Questions
DESCRIPTION:Welcome to the Gold Coast School of Construction Office Hours hosted every Wednesday from 11:00am to 1:00pm EST via Zoom-Only. \n  \nThis is an open forum session with the Program Director Chris Clausing – no set topic or class topic. Bring your questions about the program content\, practice questions\, exam registration or license application. This is a first come\, first serve format. \n  \nThe Office Hours Zoom link is located in your student account “Clausing’s Corner – Virtual Office Hours (Wednesdays)”. \n  \nClick this link to access the most recent list of the reference books allowed for the Business and Finance and Division I and II Trade Exams: http://www.myfloridalicense.com/DBPR/examination-information/construction-examinations-reference-lists/ \n  \nClick this link for a list of Gold Coast Schools Campus locations: https://goldcoastschools.com/about-us/gold-coast-campus-locations/ \n  \nIf you have any questions about your Contractor Exam Prep Program\, please reach out to us at Contractor@GoldCoastSchools.com or call us at 1-800-732-9140.
URL:https://goldcoastschools.com/event/office-hours-zoom-only-bring-your-questions/2025-02-05/
CATEGORIES:AC (A/B) and Mechanical,Building Inspector,General Contractor,Home Inspector,Plumbing Contractor,Pool / Spa Contractor,Roofing Contractor
END:VEVENT
BEGIN:VEVENT
DTSTART;TZID=America/New_York:20250210T170000
DTEND;TZID=America/New_York:20250210T180000
DTSTAMP:20260419T091004
CREATED:20240213T140321Z
LAST-MODIFIED:20251113T192130Z
UID:10004169-1739206800-1739210400@goldcoastschools.com
SUMMARY:Student Orientation - Zoom Only
DESCRIPTION:Welcome to the Gold Coast School of Construction Student Orientation hosted every Monday from 5:00pm to 6:30pm via Zoom-Only. \n  \nThis is an extremely important session for newer students\, though any active student is welcome to attend. In this session\, we review how to register with the state to obtain your Candidate ID number\, how to schedule your exam with Pearson Vue\, and how to access the applications when you are ready to apply for your license. \n  \nWe also review the Candidate Handbook for all Division I and Division II license categories. In addition\, we will review how to access your student account\, how to navigate the Program Schedule\, how to find the Zoom links for your weeknight classes and workshops\, as well as how to launch the hundreds of Practice Exam questions included in your tuition. \n  \nThe Orientation Zoom link is located in your student account. \n  \nClick this link to access the most recent list of the reference books allowed for the Business and Finance Exam and the Division I and II Trade exams: http://www.myfloridalicense.com/DBPR/examination-information/construction-examinations-reference-lists/ \n  \nClick this link for a list of Gold Coast Schools Campus locations: https://goldcoastschools.com/about-us/gold-coast-campus-locations/ \n  \nIf you have any questions about your Contractor Exam Prep Program\, please reach out to us at Contractor@GoldCoastSchools.com or call us at 1-800-732-9140.
URL:https://goldcoastschools.com/event/student-orientation-zoom-only-2-2/2025-02-10/
CATEGORIES:AC (A/B) and Mechanical,Building Inspector,General Contractor,Home Inspector,Industry Training,Plumbing Contractor,Pool / Spa Contractor,Roofing Contractor
END:VEVENT
BEGIN:VEVENT
DTSTART;TZID=America/New_York:20250212T110000
DTEND;TZID=America/New_York:20250212T130000
DTSTAMP:20260419T091004
CREATED:20230409T004340Z
LAST-MODIFIED:20251120T160602Z
UID:10004877-1739358000-1739365200@goldcoastschools.com
SUMMARY:Office Hours - Zoom Only - Bring Your Questions
DESCRIPTION:Welcome to the Gold Coast School of Construction Office Hours hosted every Wednesday from 11:00am to 1:00pm EST via Zoom-Only. \n  \nThis is an open forum session with the Program Director Chris Clausing – no set topic or class topic. Bring your questions about the program content\, practice questions\, exam registration or license application. This is a first come\, first serve format. \n  \nThe Office Hours Zoom link is located in your student account “Clausing’s Corner – Virtual Office Hours (Wednesdays)”. \n  \nClick this link to access the most recent list of the reference books allowed for the Business and Finance and Division I and II Trade Exams: http://www.myfloridalicense.com/DBPR/examination-information/construction-examinations-reference-lists/ \n  \nClick this link for a list of Gold Coast Schools Campus locations: https://goldcoastschools.com/about-us/gold-coast-campus-locations/ \n  \nIf you have any questions about your Contractor Exam Prep Program\, please reach out to us at Contractor@GoldCoastSchools.com or call us at 1-800-732-9140.
URL:https://goldcoastschools.com/event/office-hours-zoom-only-bring-your-questions/2025-02-12/
CATEGORIES:AC (A/B) and Mechanical,Building Inspector,General Contractor,Home Inspector,Plumbing Contractor,Pool / Spa Contractor,Roofing Contractor
END:VEVENT
BEGIN:VEVENT
DTSTART;VALUE=DATE:20250215
DTEND;VALUE=DATE:20250216
DTSTAMP:20260419T091004
CREATED:20231220T133953Z
LAST-MODIFIED:20260122T213536Z
UID:10005965-1739606400-1739638800@goldcoastschools.com
SUMMARY:No Classes Scheduled for Today
DESCRIPTION:No Classes Scheduled for Today \n  \nContact us at 1-800-732-9140 or email Contractor@GoldCoastSchools.com with questions.
URL:https://goldcoastschools.com/event/no-classes-scheduled-for-today/2025-02-15/
CATEGORIES:AC (A/B) and Mechanical,Building Inspector,General Contractor,Home Inspector,Industry Training,Plumbing Contractor,Pool / Spa Contractor,Roofing Contractor
END:VEVENT
BEGIN:VEVENT
DTSTART;VALUE=DATE:20250216
DTEND;VALUE=DATE:20250217
DTSTAMP:20260419T091004
CREATED:20231220T133953Z
LAST-MODIFIED:20260122T213536Z
UID:10005966-1739692800-1739725200@goldcoastschools.com
SUMMARY:No Classes Scheduled for Today
DESCRIPTION:No Classes Scheduled for Today \n  \nContact us at 1-800-732-9140 or email Contractor@GoldCoastSchools.com with questions.
URL:https://goldcoastschools.com/event/no-classes-scheduled-for-today/2025-02-16/
CATEGORIES:AC (A/B) and Mechanical,Building Inspector,General Contractor,Home Inspector,Industry Training,Plumbing Contractor,Pool / Spa Contractor,Roofing Contractor
END:VEVENT
BEGIN:VEVENT
DTSTART;VALUE=DATE:20250217
DTEND;VALUE=DATE:20250218
DTSTAMP:20260419T091004
CREATED:20231220T133953Z
LAST-MODIFIED:20260122T213536Z
UID:10005967-1739779200-1739811600@goldcoastschools.com
SUMMARY:No Classes Scheduled for Today
DESCRIPTION:No Classes Scheduled for Today \n  \nContact us at 1-800-732-9140 or email Contractor@GoldCoastSchools.com with questions.
URL:https://goldcoastschools.com/event/no-classes-scheduled-for-today/2025-02-17/
CATEGORIES:AC (A/B) and Mechanical,Building Inspector,General Contractor,Home Inspector,Industry Training,Plumbing Contractor,Pool / Spa Contractor,Roofing Contractor
END:VEVENT
BEGIN:VEVENT
DTSTART;TZID=America/New_York:20250219T110000
DTEND;TZID=America/New_York:20250219T130000
DTSTAMP:20260419T091005
CREATED:20230409T004340Z
LAST-MODIFIED:20251120T160602Z
UID:10004878-1739962800-1739970000@goldcoastschools.com
SUMMARY:Office Hours - Zoom Only - Bring Your Questions
DESCRIPTION:Welcome to the Gold Coast School of Construction Office Hours hosted every Wednesday from 11:00am to 1:00pm EST via Zoom-Only. \n  \nThis is an open forum session with the Program Director Chris Clausing – no set topic or class topic. Bring your questions about the program content\, practice questions\, exam registration or license application. This is a first come\, first serve format. \n  \nThe Office Hours Zoom link is located in your student account “Clausing’s Corner – Virtual Office Hours (Wednesdays)”. \n  \nClick this link to access the most recent list of the reference books allowed for the Business and Finance and Division I and II Trade Exams: http://www.myfloridalicense.com/DBPR/examination-information/construction-examinations-reference-lists/ \n  \nClick this link for a list of Gold Coast Schools Campus locations: https://goldcoastschools.com/about-us/gold-coast-campus-locations/ \n  \nIf you have any questions about your Contractor Exam Prep Program\, please reach out to us at Contractor@GoldCoastSchools.com or call us at 1-800-732-9140.
URL:https://goldcoastschools.com/event/office-hours-zoom-only-bring-your-questions/2025-02-19/
CATEGORIES:AC (A/B) and Mechanical,Building Inspector,General Contractor,Home Inspector,Plumbing Contractor,Pool / Spa Contractor,Roofing Contractor
END:VEVENT
BEGIN:VEVENT
DTSTART;TZID=America/New_York:20250222T080000
DTEND;TZID=America/New_York:20250222T160000
DTSTAMP:20260419T091005
CREATED:20241217T221925Z
LAST-MODIFIED:20260123T173931Z
UID:10005890-1740211200-1740240000@goldcoastschools.com
SUMMARY:Building Inspector / Plans Examiner Class Part II: ICC Technical Training: WEB Only
DESCRIPTION:Welcome to Part II of the Building Inspector / Plans Examiner Exam Prep Program: ICC Technical Training. These classes will be held Saturday and Sunday from 8:00am to 4:00pm at our Tamarac campus and via Zoom. Bring all Reference Book materials to these classes to prepare for the Building Inspector and Plans Examiner exams. \n  \nExamination Information: \n  \nApplicants seeking licensure by examination must take and pass a technical examination administered by the International Code Council that is related to their category of licensure\, as well as the Florida Principle and Practice examination. Information regarding technical examinations can be found on the International Code Council website. \n  \nDBPR offers the Florida Principle and Practice examination in a computer-based testing (CBT) format. Candidates who have been approved to sit for an examination may do so by contacting the department’s examination vendor\, Pearson VUE. Examinations are available on a daily basis at testing sites throughout the world. For more information\, including to schedule an examination\, visit the Examination Information page. \n  \nClick to access the Candidate Handbook for the Building Code Administrators and Inspectors Florida Principle and Practice Licensure Examination: http://www.myfloridalicense.com/dbpr/servop/testing/documents/builcib.pdf \n  \nClick here for a list of Gold Coast Schools Campus locations: https://goldcoastschools.com/about-us/gold-coast-campus-locations/ \n  \nIf you have any questions about your Inspector / Plans Examiner Exam Prep Program\, please reach out to us at Contractor@GoldCoastSchools.com or call us at 1-800-732-9140.
URL:https://goldcoastschools.com/event/building-inspector-plans-examiner-class-part-ii-icc-technical-training-web-only/2025-02-22/
CATEGORIES:Building Inspector
END:VEVENT
BEGIN:VEVENT
DTSTART;TZID=America/New_York:20250222T090000
DTEND;TZID=America/New_York:20250222T170000
DTSTAMP:20260419T091005
CREATED:20231231T171016Z
LAST-MODIFIED:20250407T165637Z
UID:10005833-1740214800-1740243600@goldcoastschools.com
SUMMARY:Plan Reading Essentials - Registration Required - Tamarac Campus - English
DESCRIPTION:Click here to register online today: https://goldcoastschools.com/courses/construction/construction-plan-reading/  \n  \nHeld over two consecutive days from 9am to 5pm\, this Workshop will advance the skills of both novice and veteran Construction Professionals in reading and understanding sets of architectural plans. \nTopics include: \n\nThe Basics of Plans and Drawings\nConstruction Basics for Plan Reading\nBasic Math for Area & Volume\nUnderstanding Site Plans\nFoundation & Structural Plans\nMEP Drawings Explained\nAnd much more!!\n\nNow available in both English & Spanish.  If you have any questions regarding this workshop or would like to register\, please contact our Student Support Team at 1-800-732-9140 or email us at Contractor@GoldCoastSchools.com. \nClick here to register online today: https://goldcoastschools.com/courses/construction/construction-plan-reading/ 
URL:https://goldcoastschools.com/event/plan-reading-essentials-registration-required-tamarac-campus-english/2025-02-22/
CATEGORIES:AC (A/B) and Mechanical,Building Inspector,General Contractor,Home Inspector,Industry Training,Plumbing Contractor,Pool / Spa Contractor,Roofing Contractor
END:VEVENT
BEGIN:VEVENT
DTSTART;TZID=America/New_York:20250223T080000
DTEND;TZID=America/New_York:20250223T160000
DTSTAMP:20260419T091005
CREATED:20241217T221925Z
LAST-MODIFIED:20260123T173931Z
UID:10005891-1740297600-1740326400@goldcoastschools.com
SUMMARY:Building Inspector / Plans Examiner Class Part II: ICC Technical Training: WEB Only
DESCRIPTION:Welcome to Part II of the Building Inspector / Plans Examiner Exam Prep Program: ICC Technical Training. These classes will be held Saturday and Sunday from 8:00am to 4:00pm at our Tamarac campus and via Zoom. Bring all Reference Book materials to these classes to prepare for the Building Inspector and Plans Examiner exams. \n  \nExamination Information: \n  \nApplicants seeking licensure by examination must take and pass a technical examination administered by the International Code Council that is related to their category of licensure\, as well as the Florida Principle and Practice examination. Information regarding technical examinations can be found on the International Code Council website. \n  \nDBPR offers the Florida Principle and Practice examination in a computer-based testing (CBT) format. Candidates who have been approved to sit for an examination may do so by contacting the department’s examination vendor\, Pearson VUE. Examinations are available on a daily basis at testing sites throughout the world. For more information\, including to schedule an examination\, visit the Examination Information page. \n  \nClick to access the Candidate Handbook for the Building Code Administrators and Inspectors Florida Principle and Practice Licensure Examination: http://www.myfloridalicense.com/dbpr/servop/testing/documents/builcib.pdf \n  \nClick here for a list of Gold Coast Schools Campus locations: https://goldcoastschools.com/about-us/gold-coast-campus-locations/ \n  \nIf you have any questions about your Inspector / Plans Examiner Exam Prep Program\, please reach out to us at Contractor@GoldCoastSchools.com or call us at 1-800-732-9140.
URL:https://goldcoastschools.com/event/building-inspector-plans-examiner-class-part-ii-icc-technical-training-web-only/2025-02-23/
CATEGORIES:Building Inspector
END:VEVENT
BEGIN:VEVENT
DTSTART;TZID=America/New_York:20250223T090000
DTEND;TZID=America/New_York:20250223T170000
DTSTAMP:20260419T091005
CREATED:20231231T171016Z
LAST-MODIFIED:20250407T165637Z
UID:10005834-1740301200-1740330000@goldcoastschools.com
SUMMARY:Plan Reading Essentials - Registration Required - Tamarac Campus - English
DESCRIPTION:Click here to register online today: https://goldcoastschools.com/courses/construction/construction-plan-reading/  \n  \nHeld over two consecutive days from 9am to 5pm\, this Workshop will advance the skills of both novice and veteran Construction Professionals in reading and understanding sets of architectural plans. \nTopics include: \n\nThe Basics of Plans and Drawings\nConstruction Basics for Plan Reading\nBasic Math for Area & Volume\nUnderstanding Site Plans\nFoundation & Structural Plans\nMEP Drawings Explained\nAnd much more!!\n\nNow available in both English & Spanish.  If you have any questions regarding this workshop or would like to register\, please contact our Student Support Team at 1-800-732-9140 or email us at Contractor@GoldCoastSchools.com. \nClick here to register online today: https://goldcoastschools.com/courses/construction/construction-plan-reading/ 
URL:https://goldcoastschools.com/event/plan-reading-essentials-registration-required-tamarac-campus-english/2025-02-23/
CATEGORIES:AC (A/B) and Mechanical,Building Inspector,General Contractor,Home Inspector,Industry Training,Plumbing Contractor,Pool / Spa Contractor,Roofing Contractor
END:VEVENT
BEGIN:VEVENT
DTSTART;TZID=America/New_York:20250224T170000
DTEND;TZID=America/New_York:20250224T180000
DTSTAMP:20260419T091005
CREATED:20240213T140321Z
LAST-MODIFIED:20251113T192130Z
UID:10004171-1740416400-1740420000@goldcoastschools.com
SUMMARY:Student Orientation - Zoom Only
DESCRIPTION:Welcome to the Gold Coast School of Construction Student Orientation hosted every Monday from 5:00pm to 6:30pm via Zoom-Only. \n  \nThis is an extremely important session for newer students\, though any active student is welcome to attend. In this session\, we review how to register with the state to obtain your Candidate ID number\, how to schedule your exam with Pearson Vue\, and how to access the applications when you are ready to apply for your license. \n  \nWe also review the Candidate Handbook for all Division I and Division II license categories. In addition\, we will review how to access your student account\, how to navigate the Program Schedule\, how to find the Zoom links for your weeknight classes and workshops\, as well as how to launch the hundreds of Practice Exam questions included in your tuition. \n  \nThe Orientation Zoom link is located in your student account. \n  \nClick this link to access the most recent list of the reference books allowed for the Business and Finance Exam and the Division I and II Trade exams: http://www.myfloridalicense.com/DBPR/examination-information/construction-examinations-reference-lists/ \n  \nClick this link for a list of Gold Coast Schools Campus locations: https://goldcoastschools.com/about-us/gold-coast-campus-locations/ \n  \nIf you have any questions about your Contractor Exam Prep Program\, please reach out to us at Contractor@GoldCoastSchools.com or call us at 1-800-732-9140.
URL:https://goldcoastschools.com/event/student-orientation-zoom-only-2-2/2025-02-24/
CATEGORIES:AC (A/B) and Mechanical,Building Inspector,General Contractor,Home Inspector,Industry Training,Plumbing Contractor,Pool / Spa Contractor,Roofing Contractor
END:VEVENT
BEGIN:VEVENT
DTSTART;TZID=America/New_York:20250226T110000
DTEND;TZID=America/New_York:20250226T130000
DTSTAMP:20260419T091005
CREATED:20230409T004340Z
LAST-MODIFIED:20251120T160602Z
UID:10004879-1740567600-1740574800@goldcoastschools.com
SUMMARY:Office Hours - Zoom Only - Bring Your Questions
DESCRIPTION:Welcome to the Gold Coast School of Construction Office Hours hosted every Wednesday from 11:00am to 1:00pm EST via Zoom-Only. \n  \nThis is an open forum session with the Program Director Chris Clausing – no set topic or class topic. Bring your questions about the program content\, practice questions\, exam registration or license application. This is a first come\, first serve format. \n  \nThe Office Hours Zoom link is located in your student account “Clausing’s Corner – Virtual Office Hours (Wednesdays)”. \n  \nClick this link to access the most recent list of the reference books allowed for the Business and Finance and Division I and II Trade Exams: http://www.myfloridalicense.com/DBPR/examination-information/construction-examinations-reference-lists/ \n  \nClick this link for a list of Gold Coast Schools Campus locations: https://goldcoastschools.com/about-us/gold-coast-campus-locations/ \n  \nIf you have any questions about your Contractor Exam Prep Program\, please reach out to us at Contractor@GoldCoastSchools.com or call us at 1-800-732-9140.
URL:https://goldcoastschools.com/event/office-hours-zoom-only-bring-your-questions/2025-02-26/
CATEGORIES:AC (A/B) and Mechanical,Building Inspector,General Contractor,Home Inspector,Plumbing Contractor,Pool / Spa Contractor,Roofing Contractor
END:VEVENT
END:VCALENDAR