BEGIN:VCALENDAR
VERSION:2.0
PRODID:-//Gold Coast Schools - ECPv6.15.20//NONSGML v1.0//EN
CALSCALE:GREGORIAN
METHOD:PUBLISH
X-WR-CALNAME:Gold Coast Schools
X-ORIGINAL-URL:https://goldcoastschools.com
X-WR-CALDESC:Events for Gold Coast Schools
REFRESH-INTERVAL;VALUE=DURATION:PT1H
X-Robots-Tag:noindex
X-PUBLISHED-TTL:PT1H
BEGIN:VTIMEZONE
TZID:America/New_York
BEGIN:DAYLIGHT
TZOFFSETFROM:-0500
TZOFFSETTO:-0400
TZNAME:EDT
DTSTART:20220313T070000
END:DAYLIGHT
BEGIN:STANDARD
TZOFFSETFROM:-0400
TZOFFSETTO:-0500
TZNAME:EST
DTSTART:20221106T060000
END:STANDARD
BEGIN:DAYLIGHT
TZOFFSETFROM:-0500
TZOFFSETTO:-0400
TZNAME:EDT
DTSTART:20230312T070000
END:DAYLIGHT
BEGIN:STANDARD
TZOFFSETFROM:-0400
TZOFFSETTO:-0500
TZNAME:EST
DTSTART:20231105T060000
END:STANDARD
BEGIN:DAYLIGHT
TZOFFSETFROM:-0500
TZOFFSETTO:-0400
TZNAME:EDT
DTSTART:20240310T070000
END:DAYLIGHT
BEGIN:STANDARD
TZOFFSETFROM:-0400
TZOFFSETTO:-0500
TZNAME:EST
DTSTART:20241103T060000
END:STANDARD
END:VTIMEZONE
BEGIN:VEVENT
DTSTART;TZID=America/New_York:20230110T183000
DTEND;TZID=America/New_York:20230111T210000
DTSTAMP:20260421T013949
CREATED:20230224T163202Z
LAST-MODIFIED:20230315T120612Z
UID:10001703-1673375400-1673470800@goldcoastschools.com
SUMMARY:Mechanical Students Only Weeknight Class: Tamarac and Zoom
DESCRIPTION:Welcome to the Mechanical-Only weeknight exam prep session. This Mechanical Trade-Specific content review session is for students wishing to obtain their Certified Mechanical Contractors license and will be held on the first Tuesday of each month from 6:30pm to 9:00pm at our Tamarac campus or via Zoom. Bring all of your Trade books to the workshop – click here to access the most recent list of the reference books allowed for the AC and Mechanical Exams: http://www.myfloridalicense.com/DBPR/examination-information/construction-examinations-reference-lists/ \n  \nClick here to access the DBPR Candidate Information Booklet for all Division I and II License Categories (Excluding Plumbing): http://www.myfloridalicense.com/dbpr/servop/testing/documents/const_cib.pdf \n  \nClick here for a list of Gold Coast Schools Campus locations: https://goldcoastschools.com/about-us/gold-coast-campus-locations/ \n  \nIf you have any questions about your Contractor Exam Prep Program\, please reach out to us at Contractor@GoldCoastSchools.com or call us at 1-800-732-9140.
URL:https://goldcoastschools.com/event/ac-mechanical-2/2023-01-10/
CATEGORIES:AC (A/B) and Mechanical
END:VEVENT
BEGIN:VEVENT
DTSTART;TZID=America/New_York:20230114T060000
DTEND;TZID=America/New_York:20230114T130000
DTSTAMP:20260421T013949
CREATED:20230224T162853Z
LAST-MODIFIED:20231230T203300Z
UID:10001771-1673676000-1673701200@goldcoastschools.com
SUMMARY:Business and Finance Cram Workshop: Zoom Only - No On-Campus Option
DESCRIPTION:Welcome to the Business and Finance Weekend Workshop. This accelerated content review session will be held on Saturday and Sunday from 9am to 4pm via Zoom Only – no on-campus option. We will be reviewing content areas related to Modules 1 – 7 during the workshop – bring your Contractors Manual\, Builders Guide to Accounting\, and AIA 201\, 401 and 701. Click this link to access the most recent list of the reference books allowed for the Business and Finance Exam: http://www.myfloridalicense.com/DBPR/examination-information/construction-examinations-reference-lists/ \n  \nModule 1: Business Structures & Licensing (BF and CA Exam Content) – Contractors Manual \nModule 2: Bookkeeping Principles (BF Exam Content Only) – Contractors Manual and Builders Guide to Accounting \nModule 3: Financial Accounting Principles (BF Exam Content Only) – Contractors Manual and Builders Guide to Accounting \nModule 4: Construction Cost Accounting (BF Exam Content Only) – Contractors Manual and Builders Guide to Accounting \nModule 5: Insurance & Bonds (BF and CA Exam Content) – Contractors Manual and AIA Documents 201\, 401 and 701 \nModule 6: Employment Practices / Worker’s Comp / Safety (BF and CA Exam Content) – Contractors Manual and AIA Documents 201\, 401 and 701 \nModule 7: AIA / Contracts / Lien Law (FS 713) / Project Management (BF and CA Exam Content) – Contractors Manual and AIA Documents 201\, 401 and 701 \n  \nClick here for a list of Gold Coast Schools Campus locations: https://goldcoastschools.com/about-us/gold-coast-campus-locations/ \n  \nIf you have any questions about your Contractor Exam Prep Program\, please reach out to us at Contractor@GoldCoastSchools.com or call us at 1-800-732-9140.
URL:https://goldcoastschools.com/event/business-and-finance-cram-workshop-in-class-live-stream/2023-01-14/
CATEGORIES:AC (A/B) and Mechanical,General Contractor,Plumbing Contractor,Pool / Spa Contractor,Roofing Contractor
END:VEVENT
BEGIN:VEVENT
DTSTART;TZID=America/New_York:20230114T060000
DTEND;TZID=America/New_York:20230114T130000
DTSTAMP:20260421T013949
CREATED:20230312T133903Z
LAST-MODIFIED:20251222T181322Z
UID:10002488-1673676000-1673701200@goldcoastschools.com
SUMMARY:Business and Finance Cram Workshop: Doral or Zoom
DESCRIPTION:Welcome to the Business and Finance Weekend Workshop. This accelerated content review session will be held on Saturday and Sunday from 8am to 5pm at our Doral campus or via Zoom. We will be reviewing content related to Modules 1 – 7 during the workshop – bring your Contractors Manual\, Builders Guide to Accounting\, and AIA 201\, 401 and 701. Click this link to access the most recent list of the reference books allowed for the Business and Finance Exam: http://www.myfloridalicense.com/DBPR/examination-information/construction-examinations-reference-lists/ \n  \nModule 1: Business Structures & Licensing (BF and CA Exam Content) – Contractors Manual \nModule 2: Bookkeeping Principles (BF Exam Content Only) – Contractors Manual and Builders Guide to Accounting \nModule 3: Financial Accounting Principles (BF Exam Content Only) – Contractors Manual and Builders Guide to Accounting \nModule 4: Construction Cost Accounting (BF Exam Content Only) – Contractors Manual and Builders Guide to Accounting \nModule 5: Insurance & Bonds (BF and CA Exam Content) – Contractors Manual and AIA Documents 201\, 401 and 701 \nModule 6: Employment Practices / Workers’ Comp / Safety (BF and CA Exam Content) – Contractors Manual and AIA Documents 201\, 401 and 701 \nModule 7: AIA / Contracts / Lien Law (FS 713) / Project Management (BF and CA Exam Content) – Contractors Manual and AIA Documents 201\, 401 and 701 \n  \nClick here for a list of Gold Coast Schools Campus locations: https://goldcoastschools.com/about-us/gold-coast-campus-locations/ \n  \nIf you have any questions about your Contractor Exam Prep Program\, please reach out to us at Contractor@GoldCoastSchools.com or call us at 1-800-732-9140.
URL:https://goldcoastschools.com/event/business-and-finance-cram-workshop-doral-and-zoom/2023-01-14/1/
CATEGORIES:AC (A/B) and Mechanical,General Contractor,Plumbing Contractor,Pool / Spa Contractor,Roofing Contractor
END:VEVENT
BEGIN:VEVENT
DTSTART;TZID=America/New_York:20230114T060000
DTEND;TZID=America/New_York:20230114T130000
DTSTAMP:20260421T013949
CREATED:20230312T134442Z
LAST-MODIFIED:20250709T155121Z
UID:10002509-1673676000-1673701200@goldcoastschools.com
SUMMARY:Business and Finance Cram Workshop: Tamarac or Zoom
DESCRIPTION:Welcome to the Business and Finance Weekend Workshop. This accelerated content review session will be held on Saturday and Sunday from 9am to 4pm at our Tamarac campus or via Zoom. We will be reviewing Modules 1 – 7 during the workshop – bring your Contractors Manual\, Builders Guide to Accounting\, and AIA 201\, 401 and 701. Click this link to access the most recent list of the reference books allowed for the Business and Finance Exam: http://www.myfloridalicense.com/DBPR/examination-information/construction-examinations-reference-lists/ \n  \nModule 1: Business Structures & Licensing (BF and CA Exam Content) – Contractors Manual \nModule 2: Bookkeeping Principles (BF Exam Content Only) – Contractors Manual and Builders Guide to Accounting \nModule 3: Financial Accounting Principles (BF Exam Content Only) – Contractors Manual and Builders Guide to Accounting \nModule 4: Construction Cost Accounting (BF Exam Content Only) – Contractors Manual and Builders Guide to Accounting \nModule 5: Insurance & Bonds (BF and CA Exam Content) – Contractors Manual and AIA Documents 201\, 401 and 701 \nModule 6: Employment Practices / Workers’ Comp / Safety (BF and CA Exam Content) – Contractors Manual and AIA Documents 201\, 401 and 701 \nModule 7: AIA / Contracts / Lien Law (FS 713) / Project Management (BF and CA Exam Content) – Contractors Manual and AIA Documents 201\, 401 and 701 \n  \nClick here for a list of Gold Coast Schools Campus locations: https://goldcoastschools.com/about-us/gold-coast-campus-locations/ \n  \nIf you have any questions about your Contractor Exam Prep Program\, please reach out to us at Contractor@GoldCoastSchools.com or call us at 1-800-732-9140.
URL:https://goldcoastschools.com/event/business-and-finance-cram-workshop-tamarac-and-zoom/2023-01-14/
CATEGORIES:AC (A/B) and Mechanical,General Contractor,Plumbing Contractor,Pool / Spa Contractor,Roofing Contractor
END:VEVENT
BEGIN:VEVENT
DTSTART;TZID=America/New_York:20230114T060000
DTEND;TZID=America/New_York:20230114T130000
DTSTAMP:20260421T013949
CREATED:20230312T134900Z
LAST-MODIFIED:20251218T164534Z
UID:10002535-1673676000-1673701200@goldcoastschools.com
SUMMARY:Business and Finance Cram Workshop: East Orlando - No Zoom Option
DESCRIPTION:Welcome to the Business and Finance Weekend Workshop. This accelerated content review session will be held on Saturday and Sunday from 9am to 4pm at our East Orlando campus or via Zoom. We will be reviewing content areas related to Modules 1 – 7 during the workshop – bring your Contractors Manual\, Builders Guide to Accounting\, and AIA 201\, 401 and 701. Click this link to access the most recent list of the reference books allowed for the Business and Finance Exam: http://www.myfloridalicense.com/DBPR/examination-information/construction-examinations-reference-lists/ \n  \nModule 1: Business Structures & Licensing (BF and CA Exam Content) – Contractors Manual \nModule 2: Bookkeeping Principles (BF Exam Content Only) – Contractors Manual and Builders Guide to Accounting \nModule 3: Financial Accounting Principles (BF Exam Content Only) – Contractors Manual and Builders Guide to Accounting \nModule 4: Construction Cost Accounting (BF Exam Content Only) – Contractors Manual and Builders Guide to Accounting \nModule 5: Insurance & Bonds (BF and CA Exam Content) – Contractors Manual and AIA Documents 201\, 401 and 701 \nModule 6: Employment Practices / Workers’ Comp / Safety (BF and CA Exam Content) – Contractors Manual and AIA Documents 201\, 401 and 701 \nModule 7: AIA / Contracts / Lien Law (FS 713) / Project Management (BF and CA Exam Content) – Contractors Manual and AIA Documents 201\, 401 and 701 \n  \nClick here for a list of Gold Coast Schools Campus locations: https://goldcoastschools.com/about-us/gold-coast-campus-locations/ \n  \nIf you have any questions about your Contractor Exam Prep Program\, please reach out to us at Contractor@GoldCoastSchools.com or call us at 1-800-732-9140.
URL:https://goldcoastschools.com/event/business-and-finance-cram-workshop-east-orlando-and-zoom/2023-01-14/
CATEGORIES:AC (A/B) and Mechanical,General Contractor,Plumbing Contractor,Pool / Spa Contractor,Roofing Contractor
END:VEVENT
BEGIN:VEVENT
DTSTART;TZID=America/New_York:20230114T060000
DTEND;TZID=America/New_York:20230114T130000
DTSTAMP:20260421T013949
CREATED:20230312T135109Z
LAST-MODIFIED:20250512T160959Z
UID:10002556-1673676000-1673701200@goldcoastschools.com
SUMMARY:Business and Finance Cram Workshop: North Orlando and Zoom
DESCRIPTION:Welcome to the Business and Finance Weekend Workshop. This accelerated content review session will be held on Saturday and Sunday from 9am to 4pm at our North Orlando campus or via Zoom. We will be reviewing content areas related to Modules 1A – 7 during the workshop – bring your Contractors Manual\, Builders Guide to Accounting\, and AIA 201\, 401 and 701. Click this link to access the most recent list of the reference books allowed for the Business and Finance Exam: http://www.myfloridalicense.com/DBPR/examination-information/construction-examinations-reference-lists/ \n  \nModule 1A: Bookkeeping Principles (BF Exam Content Only) – Contractors Manual and Builders Guide to Accounting \nModule 2: Business Structures & Licensing (BF and CA Exam Content) – Contractors Manual \nModule 3: Financial Accounting Principles (BF Exam Content Only) – Contractors Manual and Builders Guide to Accounting \nModule 4: Construction Cost Accounting (BF Exam Content Only) – Contractors Manual and Builders Guide to Accounting \nModule 5: Insurance & Bonds (BF and CA Exam Content) – Contractors Manual and AIA Documents 201\, 401 and 701 \nModule 6: Employment Practices / Worker’s Comp / Safety (BF and CA Exam Content) – Contractors Manual and AIA Documents 201\, 401 and 701 \nModule 7: AIA / Contracts / Lien Law (FS 713) (BF and CA Exam Content) – Contractors Manual and AIA Documents 201\, 401 and 701 \n  \nClick here for a list of Gold Coast Schools Campus locations: https://goldcoastschools.com/about-us/gold-coast-campus-locations/ \n  \nIf you have any questions about your Contractor Exam Prep Program\, please reach out to us at Contractor@GoldCoastSchools.com or call us at 1-800-732-9140.
URL:https://goldcoastschools.com/event/business-and-finance-cram-workshop-north-orlando-and-zoom/2023-01-14/
CATEGORIES:AC (A/B) and Mechanical,General Contractor,Plumbing Contractor,Pool / Spa Contractor,Roofing Contractor
END:VEVENT
BEGIN:VEVENT
DTSTART;TZID=America/New_York:20230114T080000
DTEND;TZID=America/New_York:20230114T170000
DTSTAMP:20260421T013949
CREATED:20230312T133903Z
LAST-MODIFIED:20251222T181322Z
UID:10005331-1673683200-1673715600@goldcoastschools.com
SUMMARY:Business and Finance Cram Workshop: Doral or Zoom
DESCRIPTION:Welcome to the Business and Finance Weekend Workshop. This accelerated content review session will be held on Saturday and Sunday from 8am to 5pm at our Doral campus or via Zoom. We will be reviewing content related to Modules 1 – 7 during the workshop – bring your Contractors Manual\, Builders Guide to Accounting\, and AIA 201\, 401 and 701. Click this link to access the most recent list of the reference books allowed for the Business and Finance Exam: http://www.myfloridalicense.com/DBPR/examination-information/construction-examinations-reference-lists/ \n  \nModule 1: Business Structures & Licensing (BF and CA Exam Content) – Contractors Manual \nModule 2: Bookkeeping Principles (BF Exam Content Only) – Contractors Manual and Builders Guide to Accounting \nModule 3: Financial Accounting Principles (BF Exam Content Only) – Contractors Manual and Builders Guide to Accounting \nModule 4: Construction Cost Accounting (BF Exam Content Only) – Contractors Manual and Builders Guide to Accounting \nModule 5: Insurance & Bonds (BF and CA Exam Content) – Contractors Manual and AIA Documents 201\, 401 and 701 \nModule 6: Employment Practices / Workers’ Comp / Safety (BF and CA Exam Content) – Contractors Manual and AIA Documents 201\, 401 and 701 \nModule 7: AIA / Contracts / Lien Law (FS 713) / Project Management (BF and CA Exam Content) – Contractors Manual and AIA Documents 201\, 401 and 701 \n  \nClick here for a list of Gold Coast Schools Campus locations: https://goldcoastschools.com/about-us/gold-coast-campus-locations/ \n  \nIf you have any questions about your Contractor Exam Prep Program\, please reach out to us at Contractor@GoldCoastSchools.com or call us at 1-800-732-9140.
URL:https://goldcoastschools.com/event/business-and-finance-cram-workshop-doral-and-zoom/2023-01-14/2/
CATEGORIES:AC (A/B) and Mechanical,General Contractor,Plumbing Contractor,Pool / Spa Contractor,Roofing Contractor
END:VEVENT
BEGIN:VEVENT
DTSTART;TZID=America/New_York:20230115T090000
DTEND;TZID=America/New_York:20230115T160000
DTSTAMP:20260421T013949
CREATED:20230312T133903Z
LAST-MODIFIED:20251222T181322Z
UID:10002490-1673773200-1673798400@goldcoastschools.com
SUMMARY:Business and Finance Cram Workshop: Doral or Zoom
DESCRIPTION:Welcome to the Business and Finance Weekend Workshop. This accelerated content review session will be held on Saturday and Sunday from 8am to 5pm at our Doral campus or via Zoom. We will be reviewing content related to Modules 1 – 7 during the workshop – bring your Contractors Manual\, Builders Guide to Accounting\, and AIA 201\, 401 and 701. Click this link to access the most recent list of the reference books allowed for the Business and Finance Exam: http://www.myfloridalicense.com/DBPR/examination-information/construction-examinations-reference-lists/ \n  \nModule 1: Business Structures & Licensing (BF and CA Exam Content) – Contractors Manual \nModule 2: Bookkeeping Principles (BF Exam Content Only) – Contractors Manual and Builders Guide to Accounting \nModule 3: Financial Accounting Principles (BF Exam Content Only) – Contractors Manual and Builders Guide to Accounting \nModule 4: Construction Cost Accounting (BF Exam Content Only) – Contractors Manual and Builders Guide to Accounting \nModule 5: Insurance & Bonds (BF and CA Exam Content) – Contractors Manual and AIA Documents 201\, 401 and 701 \nModule 6: Employment Practices / Workers’ Comp / Safety (BF and CA Exam Content) – Contractors Manual and AIA Documents 201\, 401 and 701 \nModule 7: AIA / Contracts / Lien Law (FS 713) / Project Management (BF and CA Exam Content) – Contractors Manual and AIA Documents 201\, 401 and 701 \n  \nClick here for a list of Gold Coast Schools Campus locations: https://goldcoastschools.com/about-us/gold-coast-campus-locations/ \n  \nIf you have any questions about your Contractor Exam Prep Program\, please reach out to us at Contractor@GoldCoastSchools.com or call us at 1-800-732-9140.
URL:https://goldcoastschools.com/event/business-and-finance-cram-workshop-doral-and-zoom/2023-01-15/
CATEGORIES:AC (A/B) and Mechanical,General Contractor,Plumbing Contractor,Pool / Spa Contractor,Roofing Contractor
END:VEVENT
BEGIN:VEVENT
DTSTART;TZID=America/New_York:20230119T183000
DTEND;TZID=America/New_York:20230119T210000
DTSTAMP:20260421T013949
CREATED:20230130T151027Z
LAST-MODIFIED:20230619T131937Z
UID:10002442-1674153000-1674162000@goldcoastschools.com
SUMMARY:AC and Mechanical Weeknight Class: Tamarac and Zoom
DESCRIPTION:Welcome to the AC and Mechanical weeknight exam prep session. This AC Trade-Specific content review session is for students wishing to obtain their Class A/B or Mechanical Contractors licenses and will be held the last two Tuesdays and Thursdays of each month from 6:30pm to 9:00pm at our Tamarac campus or via Zoom. Bring all of your Trade books to the weeknight class – click here to access the most recent list of the reference books allowed for the AC and Mechanical Exams: http://www.myfloridalicense.com/DBPR/examination-information/construction-examinations-reference-lists/ \n  \nClick here to access the DBPR Candidate Information Booklet for all Division I and II License Categories (Excluding Plumbing): http://www.myfloridalicense.com/dbpr/servop/testing/documents/const_cib.pdf \n  \nClick here for a list of Gold Coast Schools Campus locations: https://goldcoastschools.com/about-us/gold-coast-campus-locations/ \n  \nIf you have any questions about your Contractor Exam Prep Program\, please reach out to us at Contractor@GoldCoastSchools.com or call us at 1-800-732-9140. \n 
URL:https://goldcoastschools.com/event/ac-weeknight-7/2023-01-19/
CATEGORIES:AC (A/B) and Mechanical
END:VEVENT
BEGIN:VEVENT
DTSTART;TZID=America/New_York:20230125T153000
DTEND;TZID=America/New_York:20230125T180000
DTSTAMP:20260421T013949
CREATED:20230130T154554Z
LAST-MODIFIED:20250409T152542Z
UID:10002083-1674660600-1674669600@goldcoastschools.com
SUMMARY:AC and Mechanical Weeknight Class: Zoom Only - No In Class Option
DESCRIPTION:Welcome to the AC and Mechanical weeknight exam prep session. This AC Trade-Specific content review session is for students wishing to obtain their Class A/B or Mechanical Contractors licenses and will be held the last two Wednesdays of each month from 6:30pm to 9:00pm via Zoom-Only. Bring all of your Trade books to the weeknight Trade classes – click here to access the most recent list of the reference books allowed for the AC and Mechanical Exams: http://www.myfloridalicense.com/DBPR/examination-information/construction-examinations-reference-lists/ \n  \nClick here to access the DBPR Candidate Information Booklet for all Division I and II License Categories (Excluding Plumbing): http://www.myfloridalicense.com/dbpr/servop/testing/documents/const_cib.pdf \n  \nClick here for a list of Gold Coast Schools Campus locations: https://goldcoastschools.com/about-us/gold-coast-campus-locations/ \n  \nIf you have any questions about your Contractor Exam Prep Program\, please reach out to us at Contractor@GoldCoastSchools.com or call us at 1-800-732-9140.
URL:https://goldcoastschools.com/event/ac-web-only-class/2023-01-25/
CATEGORIES:AC (A/B) and Mechanical
END:VEVENT
BEGIN:VEVENT
DTSTART;TZID=America/New_York:20230126T183000
DTEND;TZID=America/New_York:20230126T210000
DTSTAMP:20260421T013950
CREATED:20230130T151027Z
LAST-MODIFIED:20230619T131937Z
UID:10002443-1674757800-1674766800@goldcoastschools.com
SUMMARY:AC and Mechanical Weeknight Class: Tamarac and Zoom
DESCRIPTION:Welcome to the AC and Mechanical weeknight exam prep session. This AC Trade-Specific content review session is for students wishing to obtain their Class A/B or Mechanical Contractors licenses and will be held the last two Tuesdays and Thursdays of each month from 6:30pm to 9:00pm at our Tamarac campus or via Zoom. Bring all of your Trade books to the weeknight class – click here to access the most recent list of the reference books allowed for the AC and Mechanical Exams: http://www.myfloridalicense.com/DBPR/examination-information/construction-examinations-reference-lists/ \n  \nClick here to access the DBPR Candidate Information Booklet for all Division I and II License Categories (Excluding Plumbing): http://www.myfloridalicense.com/dbpr/servop/testing/documents/const_cib.pdf \n  \nClick here for a list of Gold Coast Schools Campus locations: https://goldcoastschools.com/about-us/gold-coast-campus-locations/ \n  \nIf you have any questions about your Contractor Exam Prep Program\, please reach out to us at Contractor@GoldCoastSchools.com or call us at 1-800-732-9140. \n 
URL:https://goldcoastschools.com/event/ac-weeknight-7/2023-01-26/
CATEGORIES:AC (A/B) and Mechanical
END:VEVENT
BEGIN:VEVENT
DTSTART;TZID=America/New_York:20230129T060000
DTEND;TZID=America/New_York:20230129T130000
DTSTAMP:20260421T013950
CREATED:20230224T161936Z
LAST-MODIFIED:20250923T215409Z
UID:10002181-1674972000-1674997200@goldcoastschools.com
SUMMARY:AC and Mechanical Weekend Cram Workshop: Tamarac and Zoom
DESCRIPTION:Welcome to the AC (A / B / Mechanical) Weekend Workshop. This accelerated content review session will be held on Sunday from 9am to 4pm at our Tamarac campus or via Zoom. Bring all of your Trade books to the workshop – click here to access the most recent list of the reference books allowed for the AC and Mechanical Exams: http://www.myfloridalicense.com/DBPR/examination-information/construction-examinations-reference-lists/ \n  \nClick here to access the DBPR Candidate Information Booklet for all Division I and II License Categories (Excluding Plumbing): http://www.myfloridalicense.com/dbpr/servop/testing/documents/const_cib.pdf \n  \nClick here for a list of Gold Coast Schools Campus locations: https://goldcoastschools.com/about-us/gold-coast-campus-locations/ \n  \nIf you have any questions about your Contractor Exam Prep Program\, please reach out to us at Contractor@GoldCoastSchools.com or call us at 1-800-732-9140.
URL:https://goldcoastschools.com/event/ac-cram-2/2023-01-29/
CATEGORIES:AC (A/B) and Mechanical
END:VEVENT
BEGIN:VEVENT
DTSTART;TZID=America/New_York:20230129T060000
DTEND;TZID=America/New_York:20230129T130000
DTSTAMP:20260421T013950
CREATED:20230311T183451Z
LAST-MODIFIED:20250512T152728Z
UID:10002270-1674972000-1674997200@goldcoastschools.com
SUMMARY:AC and Mechanical Weekend Cram Workshop: Doral and Zoom
DESCRIPTION:Welcome to the AC (A / B / Mechanical) Weekend Workshop. This accelerated content review session will be held on Sunday from 9am to 4pm at our Doral campus or via Zoom. Bring all of your Trade books to the workshop – click here to access the most recent list of the reference books allowed for the AC and Mechanical Exams: http://www.myfloridalicense.com/DBPR/examination-information/construction-examinations-reference-lists/ \n  \nClick here to access the DBPR Candidate Information Booklet for all Division I and II License Categories (Excluding Plumbing): http://www.myfloridalicense.com/dbpr/servop/testing/documents/const_cib.pdf \n  \nClick here for a list of Gold Coast Schools Campus locations: https://goldcoastschools.com/about-us/gold-coast-campus-locations/ \n  \nIf you have any questions about your Contractor Exam Prep Program\, please reach out to us at Contractor@GoldCoastSchools.com or call us at 1-800-732-9140.
URL:https://goldcoastschools.com/event/ac-cram-workshop-doral-and-zoom/2023-01-29/
CATEGORIES:AC (A/B) and Mechanical
END:VEVENT
BEGIN:VEVENT
DTSTART;TZID=America/New_York:20230131T183000
DTEND;TZID=America/New_York:20230131T210000
DTSTAMP:20260421T013950
CREATED:20230130T151027Z
LAST-MODIFIED:20230619T131937Z
UID:10002444-1675189800-1675198800@goldcoastschools.com
SUMMARY:AC and Mechanical Weeknight Class: Tamarac and Zoom
DESCRIPTION:Welcome to the AC and Mechanical weeknight exam prep session. This AC Trade-Specific content review session is for students wishing to obtain their Class A/B or Mechanical Contractors licenses and will be held the last two Tuesdays and Thursdays of each month from 6:30pm to 9:00pm at our Tamarac campus or via Zoom. Bring all of your Trade books to the weeknight class – click here to access the most recent list of the reference books allowed for the AC and Mechanical Exams: http://www.myfloridalicense.com/DBPR/examination-information/construction-examinations-reference-lists/ \n  \nClick here to access the DBPR Candidate Information Booklet for all Division I and II License Categories (Excluding Plumbing): http://www.myfloridalicense.com/dbpr/servop/testing/documents/const_cib.pdf \n  \nClick here for a list of Gold Coast Schools Campus locations: https://goldcoastschools.com/about-us/gold-coast-campus-locations/ \n  \nIf you have any questions about your Contractor Exam Prep Program\, please reach out to us at Contractor@GoldCoastSchools.com or call us at 1-800-732-9140. \n 
URL:https://goldcoastschools.com/event/ac-weeknight-7/2023-01-31/
CATEGORIES:AC (A/B) and Mechanical
END:VEVENT
END:VCALENDAR