BEGIN:VCALENDAR
VERSION:2.0
PRODID:-//Gold Coast Schools - ECPv6.15.20//NONSGML v1.0//EN
CALSCALE:GREGORIAN
METHOD:PUBLISH
X-WR-CALNAME:Gold Coast Schools
X-ORIGINAL-URL:https://goldcoastschools.com
X-WR-CALDESC:Events for Gold Coast Schools
REFRESH-INTERVAL;VALUE=DURATION:PT1H
X-Robots-Tag:noindex
X-PUBLISHED-TTL:PT1H
BEGIN:VTIMEZONE
TZID:America/New_York
BEGIN:DAYLIGHT
TZOFFSETFROM:-0500
TZOFFSETTO:-0400
TZNAME:EDT
DTSTART:20220313T070000
END:DAYLIGHT
BEGIN:STANDARD
TZOFFSETFROM:-0400
TZOFFSETTO:-0500
TZNAME:EST
DTSTART:20221106T060000
END:STANDARD
BEGIN:DAYLIGHT
TZOFFSETFROM:-0500
TZOFFSETTO:-0400
TZNAME:EDT
DTSTART:20230312T070000
END:DAYLIGHT
BEGIN:STANDARD
TZOFFSETFROM:-0400
TZOFFSETTO:-0500
TZNAME:EST
DTSTART:20231105T060000
END:STANDARD
BEGIN:DAYLIGHT
TZOFFSETFROM:-0500
TZOFFSETTO:-0400
TZNAME:EDT
DTSTART:20240310T070000
END:DAYLIGHT
BEGIN:STANDARD
TZOFFSETFROM:-0400
TZOFFSETTO:-0500
TZNAME:EST
DTSTART:20241103T060000
END:STANDARD
END:VTIMEZONE
BEGIN:VEVENT
DTSTART;TZID=America/New_York:20230204T060000
DTEND;TZID=America/New_York:20230204T130000
DTSTAMP:20260421T000435
CREATED:20230224T161045Z
LAST-MODIFIED:20250709T160549Z
UID:10002211-1675490400-1675515600@goldcoastschools.com
SUMMARY:Business and Finance Cram Workshop - EN ESPANOL: Doral or Zoom
DESCRIPTION:Bienvenidos al Taller de Fin de Semana de Negocios y Finanzas. Esta sesión de revisión acelerada de contenido se llevará a cabo el sábado y el domingo de 9 a. m. a 4 p. m. en nuestro campus de Doral o a través de Zoom. Estaremos revisando el contenido relacionado con los Módulos 1 – 7 durante el taller: traiga su Manual de Contratistas\, Guía de Contabilidad para Constructores y AIA 201\, 401 y 701. Haga clic en este enlace para acceder a la lista más reciente de los libros de referencia permitidos para el Negocio y examen de finanzas: http://www.myfloridalicense.com/DBPR/examination-information/construction-examinations-reference-lists/ \n  \nModule 1: Business Structures & Licensing (BF and CA Exam Content) – Contractors Manual \nModule 2: Bookkeeping Principles (BF Exam Content Only) – Contractors Manual and Builders Guide to Accounting \nModule 3: Financial Accounting Principles (BF Exam Content Only) – Contractors Manual and Builders Guide to Accounting \nModule 4: Construction Cost Accounting (BF Exam Content Only) – Contractors Manual and Builders Guide to Accounting \nModule 5: Insurance & Bonds (BF and CA Exam Content) – Contractors Manual and AIA Documents 201\, 401 and 701 \nModule 6: Employment Practices / Workers’ Comp / Safety (BF and CA Exam Content) – Contractors Manual and AIA Documents 201\, 401 and 701 \nModule 7: AIA / Contracts / Lien Law (FS 713) / Project Management (BF and CA Exam Content) – Contractors Manual and AIA Documents 201\, 401 and 701 \n  \nHaga clic en este enlace para obtener una lista de las ubicaciones de los campus de Gold Coast Schools: https://goldcoastschools.com/about-us/gold-coast-campus-locations/ \n  \nSi tiene alguna pregunta sobre su Programa de preparación para el examen de contratista\, comuníquese con nosotros a Contractor@GoldCoastSchools.com o llámenos al 1-800-732-9140. \n 
URL:https://goldcoastschools.com/event/business-and-finance-cram-workshop-spanish/2023-02-04/
CATEGORIES:AC (A/B) and Mechanical,General Contractor,Plumbing Contractor,Pool / Spa Contractor,Roofing Contractor
END:VEVENT
BEGIN:VEVENT
DTSTART;TZID=America/New_York:20230204T060000
DTEND;TZID=America/New_York:20230204T130000
DTSTAMP:20260421T000435
CREATED:20230312T235323Z
LAST-MODIFIED:20250709T154238Z
UID:10002579-1675490400-1675515600@goldcoastschools.com
SUMMARY:Business and Finance Cram Workshop - EN ESPANOL: Tamarac or Zoom
DESCRIPTION:Bienvenidos al Taller de Fin de Semana de Negocios y Finanzas. Esta sesión de revisión acelerada de contenido se llevará a cabo el sábado y el domingo de 9 a. m. a 4 p. m. en nuestro campus de Tamarac o a través de Zoom. Estaremos revisando el contenido relacionado con los Módulos 1 – 7 durante el taller: traiga su Manual de Contratistas\, Guía de Contabilidad para Constructores y AIA 201\, 401 y 701. Haga clic en este enlace para acceder a la lista más reciente de los libros de referencia permitidos para el Negocio y examen de finanzas: http://www.myfloridalicense.com/DBPR/examination-information/construction-examinations-reference-lists/ \n  \nModule 1: Business Structures & Licensing (BF and CA Exam Content) – Contractors Manual \nModule 2: Bookkeeping Principles (BF Exam Content Only) – Contractors Manual and Builders Guide to Accounting \nModule 3: Financial Accounting Principles (BF Exam Content Only) – Contractors Manual and Builders Guide to Accounting \nModule 4: Construction Cost Accounting (BF Exam Content Only) – Contractors Manual and Builders Guide to Accounting \nModule 5: Insurance & Bonds (BF and CA Exam Content) – Contractors Manual and AIA Documents 201\, 401 and 701 \nModule 6: Employment Practices / Workers’ Comp / Safety (BF and CA Exam Content) – Contractors Manual and AIA Documents 201\, 401 and 701 \nModule 7: AIA / Contracts / Lien Law (FS 713) / Project Management (BF and CA Exam Content) – Contractors Manual and AIA Documents 201\, 401 and 701 \n  \nHaga clic en este enlace para obtener una lista de las ubicaciones de los campus de Gold Coast Schools: https://goldcoastschools.com/about-us/gold-coast-campus-locations/ \n  \nSi tiene alguna pregunta sobre su Programa de preparación para el examen de contratista\, comuníquese con nosotros a Contractor@GoldCoastSchools.com o llámenos al 1-800-732-9140. \n 
URL:https://goldcoastschools.com/event/business-and-finance-cram-workshop-en-espanol-tamarac-and-zoom/2023-02-04/
CATEGORIES:AC (A/B) and Mechanical,General Contractor,Plumbing Contractor,Pool / Spa Contractor,Roofing Contractor
END:VEVENT
BEGIN:VEVENT
DTSTART;TZID=America/New_York:20230205T090000
DTEND;TZID=America/New_York:20230205T160000
DTSTAMP:20260421T000435
CREATED:20230312T235323Z
LAST-MODIFIED:20250709T154238Z
UID:10002584-1675587600-1675612800@goldcoastschools.com
SUMMARY:Business and Finance Cram Workshop - EN ESPANOL: Tamarac or Zoom
DESCRIPTION:Bienvenidos al Taller de Fin de Semana de Negocios y Finanzas. Esta sesión de revisión acelerada de contenido se llevará a cabo el sábado y el domingo de 9 a. m. a 4 p. m. en nuestro campus de Tamarac o a través de Zoom. Estaremos revisando el contenido relacionado con los Módulos 1 – 7 durante el taller: traiga su Manual de Contratistas\, Guía de Contabilidad para Constructores y AIA 201\, 401 y 701. Haga clic en este enlace para acceder a la lista más reciente de los libros de referencia permitidos para el Negocio y examen de finanzas: http://www.myfloridalicense.com/DBPR/examination-information/construction-examinations-reference-lists/ \n  \nModule 1: Business Structures & Licensing (BF and CA Exam Content) – Contractors Manual \nModule 2: Bookkeeping Principles (BF Exam Content Only) – Contractors Manual and Builders Guide to Accounting \nModule 3: Financial Accounting Principles (BF Exam Content Only) – Contractors Manual and Builders Guide to Accounting \nModule 4: Construction Cost Accounting (BF Exam Content Only) – Contractors Manual and Builders Guide to Accounting \nModule 5: Insurance & Bonds (BF and CA Exam Content) – Contractors Manual and AIA Documents 201\, 401 and 701 \nModule 6: Employment Practices / Workers’ Comp / Safety (BF and CA Exam Content) – Contractors Manual and AIA Documents 201\, 401 and 701 \nModule 7: AIA / Contracts / Lien Law (FS 713) / Project Management (BF and CA Exam Content) – Contractors Manual and AIA Documents 201\, 401 and 701 \n  \nHaga clic en este enlace para obtener una lista de las ubicaciones de los campus de Gold Coast Schools: https://goldcoastschools.com/about-us/gold-coast-campus-locations/ \n  \nSi tiene alguna pregunta sobre su Programa de preparación para el examen de contratista\, comuníquese con nosotros a Contractor@GoldCoastSchools.com o llámenos al 1-800-732-9140. \n 
URL:https://goldcoastschools.com/event/business-and-finance-cram-workshop-en-espanol-tamarac-and-zoom/2023-02-05/
CATEGORIES:AC (A/B) and Mechanical,General Contractor,Plumbing Contractor,Pool / Spa Contractor,Roofing Contractor
END:VEVENT
BEGIN:VEVENT
DTSTART;TZID=America/New_York:20230207T183000
DTEND;TZID=America/New_York:20230207T210000
DTSTAMP:20260421T000435
CREATED:20230224T163202Z
LAST-MODIFIED:20230315T120612Z
UID:10001692-1675794600-1675803600@goldcoastschools.com
SUMMARY:Mechanical Students Only Weeknight Class: Tamarac and Zoom
DESCRIPTION:Welcome to the Mechanical-Only weeknight exam prep session. This Mechanical Trade-Specific content review session is for students wishing to obtain their Certified Mechanical Contractors license and will be held on the first Tuesday of each month from 6:30pm to 9:00pm at our Tamarac campus or via Zoom. Bring all of your Trade books to the workshop – click here to access the most recent list of the reference books allowed for the AC and Mechanical Exams: http://www.myfloridalicense.com/DBPR/examination-information/construction-examinations-reference-lists/ \n  \nClick here to access the DBPR Candidate Information Booklet for all Division I and II License Categories (Excluding Plumbing): http://www.myfloridalicense.com/dbpr/servop/testing/documents/const_cib.pdf \n  \nClick here for a list of Gold Coast Schools Campus locations: https://goldcoastschools.com/about-us/gold-coast-campus-locations/ \n  \nIf you have any questions about your Contractor Exam Prep Program\, please reach out to us at Contractor@GoldCoastSchools.com or call us at 1-800-732-9140.
URL:https://goldcoastschools.com/event/ac-mechanical-2/2023-02-07/
CATEGORIES:AC (A/B) and Mechanical
END:VEVENT
BEGIN:VEVENT
DTSTART;TZID=America/New_York:20230211T120000
DTEND;TZID=America/New_York:20230211T200000
DTSTAMP:20260421T000435
CREATED:20230220T185915Z
LAST-MODIFIED:20250430T003333Z
UID:10001012-1676116800-1676145600@goldcoastschools.com
SUMMARY:Construction Estimating and Bidding Essentials - Doral - On-Campus and Zoom - Registration Required
DESCRIPTION:Construction Estimating and Bidding Essentials \nClick here to Register: https://goldcoastschools.com/courses/construction/introduction-to-bidding-estimating/  \nOr call 1-800-732-9140 or email us at Contractor@GoldCoastSchools.com to register! \n  \nGold Coast’s two-day comprehensive workshop provides solid construction estimating and bidding foundational skills for new contractors while helping experienced professionals hone their skills. After an Estimating and Bidding weekend workshop\, you’ll be able to accurately prepare different types of estimates used to bid on everyday construction projects. \n\nAccurately prepare different estimate types\nBuild a professional estimate in Microsoft Excel – Laptop computer strongly recommended\nReview and understand important AIA Contracts\nTake bidding shortcuts using the Construction Master Pro Calculator\n\nWhy Should Contractors And Contracting Students Take This Course? \n\nIt’s great exam prep for contractors without experience with the estimating and bidding process.\nWe offer a complete review of construction math basics to enhance your takeoff and plan reading skills.\nYou’ll get a detailed review of the estimating and bidding process using CSI MasterFormat Divisions.\nYou’ll get tons of real-world estimating exercises using professional plan sets!\n\n  \nClick here to Register: https://goldcoastschools.com/courses/construction/introduction-to-bidding-estimating/  \nOr call 1-800-732-9140 or email us at Contractor@GoldCoastSchools.com to register!
URL:https://goldcoastschools.com/event/introduction-to-construction-estimating-and-bidding/2023-02-11/
CATEGORIES:AC (A/B) and Mechanical,Building Inspector,General Contractor,Home Inspector,Industry Training,Plumbing Contractor,Pool / Spa Contractor,Roofing Contractor
END:VEVENT
BEGIN:VEVENT
DTSTART;TZID=America/New_York:20230212T120000
DTEND;TZID=America/New_York:20230212T200000
DTSTAMP:20260421T000435
CREATED:20230220T185915Z
LAST-MODIFIED:20250430T003333Z
UID:10001013-1676203200-1676232000@goldcoastschools.com
SUMMARY:Construction Estimating and Bidding Essentials - Doral - On-Campus and Zoom - Registration Required
DESCRIPTION:Construction Estimating and Bidding Essentials \nClick here to Register: https://goldcoastschools.com/courses/construction/introduction-to-bidding-estimating/  \nOr call 1-800-732-9140 or email us at Contractor@GoldCoastSchools.com to register! \n  \nGold Coast’s two-day comprehensive workshop provides solid construction estimating and bidding foundational skills for new contractors while helping experienced professionals hone their skills. After an Estimating and Bidding weekend workshop\, you’ll be able to accurately prepare different types of estimates used to bid on everyday construction projects. \n\nAccurately prepare different estimate types\nBuild a professional estimate in Microsoft Excel – Laptop computer strongly recommended\nReview and understand important AIA Contracts\nTake bidding shortcuts using the Construction Master Pro Calculator\n\nWhy Should Contractors And Contracting Students Take This Course? \n\nIt’s great exam prep for contractors without experience with the estimating and bidding process.\nWe offer a complete review of construction math basics to enhance your takeoff and plan reading skills.\nYou’ll get a detailed review of the estimating and bidding process using CSI MasterFormat Divisions.\nYou’ll get tons of real-world estimating exercises using professional plan sets!\n\n  \nClick here to Register: https://goldcoastschools.com/courses/construction/introduction-to-bidding-estimating/  \nOr call 1-800-732-9140 or email us at Contractor@GoldCoastSchools.com to register!
URL:https://goldcoastschools.com/event/introduction-to-construction-estimating-and-bidding/2023-02-12/
CATEGORIES:AC (A/B) and Mechanical,Building Inspector,General Contractor,Home Inspector,Industry Training,Plumbing Contractor,Pool / Spa Contractor,Roofing Contractor
END:VEVENT
BEGIN:VEVENT
DTSTART;TZID=America/New_York:20230215T183000
DTEND;TZID=America/New_York:20230215T210000
DTSTAMP:20260421T000435
CREATED:20230130T154554Z
LAST-MODIFIED:20250409T152542Z
UID:10002084-1676485800-1676494800@goldcoastschools.com
SUMMARY:AC and Mechanical Weeknight Class: Zoom Only - No In Class Option
DESCRIPTION:Welcome to the AC and Mechanical weeknight exam prep session. This AC Trade-Specific content review session is for students wishing to obtain their Class A/B or Mechanical Contractors licenses and will be held the last two Wednesdays of each month from 6:30pm to 9:00pm via Zoom-Only. Bring all of your Trade books to the weeknight Trade classes – click here to access the most recent list of the reference books allowed for the AC and Mechanical Exams: http://www.myfloridalicense.com/DBPR/examination-information/construction-examinations-reference-lists/ \n  \nClick here to access the DBPR Candidate Information Booklet for all Division I and II License Categories (Excluding Plumbing): http://www.myfloridalicense.com/dbpr/servop/testing/documents/const_cib.pdf \n  \nClick here for a list of Gold Coast Schools Campus locations: https://goldcoastschools.com/about-us/gold-coast-campus-locations/ \n  \nIf you have any questions about your Contractor Exam Prep Program\, please reach out to us at Contractor@GoldCoastSchools.com or call us at 1-800-732-9140.
URL:https://goldcoastschools.com/event/ac-web-only-class/2023-02-15/
CATEGORIES:AC (A/B) and Mechanical
END:VEVENT
BEGIN:VEVENT
DTSTART;TZID=America/New_York:20230216T183000
DTEND;TZID=America/New_York:20230216T210000
DTSTAMP:20260421T000435
CREATED:20230130T151027Z
LAST-MODIFIED:20230619T131937Z
UID:10002445-1676572200-1676581200@goldcoastschools.com
SUMMARY:AC and Mechanical Weeknight Class: Tamarac and Zoom
DESCRIPTION:Welcome to the AC and Mechanical weeknight exam prep session. This AC Trade-Specific content review session is for students wishing to obtain their Class A/B or Mechanical Contractors licenses and will be held the last two Tuesdays and Thursdays of each month from 6:30pm to 9:00pm at our Tamarac campus or via Zoom. Bring all of your Trade books to the weeknight class – click here to access the most recent list of the reference books allowed for the AC and Mechanical Exams: http://www.myfloridalicense.com/DBPR/examination-information/construction-examinations-reference-lists/ \n  \nClick here to access the DBPR Candidate Information Booklet for all Division I and II License Categories (Excluding Plumbing): http://www.myfloridalicense.com/dbpr/servop/testing/documents/const_cib.pdf \n  \nClick here for a list of Gold Coast Schools Campus locations: https://goldcoastschools.com/about-us/gold-coast-campus-locations/ \n  \nIf you have any questions about your Contractor Exam Prep Program\, please reach out to us at Contractor@GoldCoastSchools.com or call us at 1-800-732-9140. \n 
URL:https://goldcoastschools.com/event/ac-weeknight-7/2023-02-16/
CATEGORIES:AC (A/B) and Mechanical
END:VEVENT
BEGIN:VEVENT
DTSTART;TZID=America/New_York:20230218T060000
DTEND;TZID=America/New_York:20230218T140000
DTSTAMP:20260421T000435
CREATED:20230220T185844Z
LAST-MODIFIED:20251105T192025Z
UID:10003581-1676700000-1676728800@goldcoastschools.com
SUMMARY:Plan Reading Essentials - Registration Required - Doral Campus - English
DESCRIPTION:Click here to register online today: https://goldcoastschools.com/courses/construction/construction-plan-reading/  \n  \nHeld over two consecutive days from 9am to 5pm\, this Workshop will advance the skills of both novice and veteran Construction Professionals in reading and understanding sets of architectural plans. \nTopics include: \n\nThe Basics of Plans and Drawings\nConstruction Basics for Plan Reading\nBasic Math for Area & Volume\nUnderstanding Site Plans\nFoundation & Structural Plans\nMEP Drawings Explained\nAnd much more!!\n\nNow available in both English & Spanish.  If you have any questions regarding this workshop or would like to register\, please contact our Student Support Team at 1-800-732-9140 or email us at Contractor@GoldCoastSchools.com. \nClick here to register online today: https://goldcoastschools.com/courses/construction/construction-plan-reading/ 
URL:https://goldcoastschools.com/event/plan-reading/2023-02-18/
CATEGORIES:AC (A/B) and Mechanical,Building Inspector,General Contractor,Home Inspector,Industry Training,Plumbing Contractor,Pool / Spa Contractor,Roofing Contractor
END:VEVENT
BEGIN:VEVENT
DTSTART;TZID=America/New_York:20230219T090000
DTEND;TZID=America/New_York:20230219T170000
DTSTAMP:20260421T000435
CREATED:20230220T185844Z
LAST-MODIFIED:20251105T192025Z
UID:10003582-1676797200-1676826000@goldcoastschools.com
SUMMARY:Plan Reading Essentials - Registration Required - Doral Campus - English
DESCRIPTION:Click here to register online today: https://goldcoastschools.com/courses/construction/construction-plan-reading/  \n  \nHeld over two consecutive days from 9am to 5pm\, this Workshop will advance the skills of both novice and veteran Construction Professionals in reading and understanding sets of architectural plans. \nTopics include: \n\nThe Basics of Plans and Drawings\nConstruction Basics for Plan Reading\nBasic Math for Area & Volume\nUnderstanding Site Plans\nFoundation & Structural Plans\nMEP Drawings Explained\nAnd much more!!\n\nNow available in both English & Spanish.  If you have any questions regarding this workshop or would like to register\, please contact our Student Support Team at 1-800-732-9140 or email us at Contractor@GoldCoastSchools.com. \nClick here to register online today: https://goldcoastschools.com/courses/construction/construction-plan-reading/ 
URL:https://goldcoastschools.com/event/plan-reading/2023-02-19/
CATEGORIES:AC (A/B) and Mechanical,Building Inspector,General Contractor,Home Inspector,Industry Training,Plumbing Contractor,Pool / Spa Contractor,Roofing Contractor
END:VEVENT
BEGIN:VEVENT
DTSTART;TZID=America/New_York:20230221T183000
DTEND;TZID=America/New_York:20230221T210000
DTSTAMP:20260421T000435
CREATED:20230130T151027Z
LAST-MODIFIED:20230619T131937Z
UID:10002446-1677004200-1677013200@goldcoastschools.com
SUMMARY:AC and Mechanical Weeknight Class: Tamarac and Zoom
DESCRIPTION:Welcome to the AC and Mechanical weeknight exam prep session. This AC Trade-Specific content review session is for students wishing to obtain their Class A/B or Mechanical Contractors licenses and will be held the last two Tuesdays and Thursdays of each month from 6:30pm to 9:00pm at our Tamarac campus or via Zoom. Bring all of your Trade books to the weeknight class – click here to access the most recent list of the reference books allowed for the AC and Mechanical Exams: http://www.myfloridalicense.com/DBPR/examination-information/construction-examinations-reference-lists/ \n  \nClick here to access the DBPR Candidate Information Booklet for all Division I and II License Categories (Excluding Plumbing): http://www.myfloridalicense.com/dbpr/servop/testing/documents/const_cib.pdf \n  \nClick here for a list of Gold Coast Schools Campus locations: https://goldcoastschools.com/about-us/gold-coast-campus-locations/ \n  \nIf you have any questions about your Contractor Exam Prep Program\, please reach out to us at Contractor@GoldCoastSchools.com or call us at 1-800-732-9140. \n 
URL:https://goldcoastschools.com/event/ac-weeknight-7/2023-02-21/
CATEGORIES:AC (A/B) and Mechanical
END:VEVENT
BEGIN:VEVENT
DTSTART;TZID=America/New_York:20230222T183000
DTEND;TZID=America/New_York:20230222T210000
DTSTAMP:20260421T000435
CREATED:20230130T154554Z
LAST-MODIFIED:20250409T152542Z
UID:10002085-1677090600-1677099600@goldcoastschools.com
SUMMARY:AC and Mechanical Weeknight Class: Zoom Only - No In Class Option
DESCRIPTION:Welcome to the AC and Mechanical weeknight exam prep session. This AC Trade-Specific content review session is for students wishing to obtain their Class A/B or Mechanical Contractors licenses and will be held the last two Wednesdays of each month from 6:30pm to 9:00pm via Zoom-Only. Bring all of your Trade books to the weeknight Trade classes – click here to access the most recent list of the reference books allowed for the AC and Mechanical Exams: http://www.myfloridalicense.com/DBPR/examination-information/construction-examinations-reference-lists/ \n  \nClick here to access the DBPR Candidate Information Booklet for all Division I and II License Categories (Excluding Plumbing): http://www.myfloridalicense.com/dbpr/servop/testing/documents/const_cib.pdf \n  \nClick here for a list of Gold Coast Schools Campus locations: https://goldcoastschools.com/about-us/gold-coast-campus-locations/ \n  \nIf you have any questions about your Contractor Exam Prep Program\, please reach out to us at Contractor@GoldCoastSchools.com or call us at 1-800-732-9140.
URL:https://goldcoastschools.com/event/ac-web-only-class/2023-02-22/
CATEGORIES:AC (A/B) and Mechanical
END:VEVENT
BEGIN:VEVENT
DTSTART;TZID=America/New_York:20230223T183000
DTEND;TZID=America/New_York:20230223T210000
DTSTAMP:20260421T000435
CREATED:20230130T151027Z
LAST-MODIFIED:20230619T131937Z
UID:10002447-1677177000-1677186000@goldcoastschools.com
SUMMARY:AC and Mechanical Weeknight Class: Tamarac and Zoom
DESCRIPTION:Welcome to the AC and Mechanical weeknight exam prep session. This AC Trade-Specific content review session is for students wishing to obtain their Class A/B or Mechanical Contractors licenses and will be held the last two Tuesdays and Thursdays of each month from 6:30pm to 9:00pm at our Tamarac campus or via Zoom. Bring all of your Trade books to the weeknight class – click here to access the most recent list of the reference books allowed for the AC and Mechanical Exams: http://www.myfloridalicense.com/DBPR/examination-information/construction-examinations-reference-lists/ \n  \nClick here to access the DBPR Candidate Information Booklet for all Division I and II License Categories (Excluding Plumbing): http://www.myfloridalicense.com/dbpr/servop/testing/documents/const_cib.pdf \n  \nClick here for a list of Gold Coast Schools Campus locations: https://goldcoastschools.com/about-us/gold-coast-campus-locations/ \n  \nIf you have any questions about your Contractor Exam Prep Program\, please reach out to us at Contractor@GoldCoastSchools.com or call us at 1-800-732-9140. \n 
URL:https://goldcoastschools.com/event/ac-weeknight-7/2023-02-23/
CATEGORIES:AC (A/B) and Mechanical
END:VEVENT
BEGIN:VEVENT
DTSTART;TZID=America/New_York:20230226T090000
DTEND;TZID=America/New_York:20230226T160000
DTSTAMP:20260421T000435
CREATED:20230311T183451Z
LAST-MODIFIED:20250512T152728Z
UID:10002271-1677402000-1677427200@goldcoastschools.com
SUMMARY:AC and Mechanical Weekend Cram Workshop: Doral and Zoom
DESCRIPTION:Welcome to the AC (A / B / Mechanical) Weekend Workshop. This accelerated content review session will be held on Sunday from 9am to 4pm at our Doral campus or via Zoom. Bring all of your Trade books to the workshop – click here to access the most recent list of the reference books allowed for the AC and Mechanical Exams: http://www.myfloridalicense.com/DBPR/examination-information/construction-examinations-reference-lists/ \n  \nClick here to access the DBPR Candidate Information Booklet for all Division I and II License Categories (Excluding Plumbing): http://www.myfloridalicense.com/dbpr/servop/testing/documents/const_cib.pdf \n  \nClick here for a list of Gold Coast Schools Campus locations: https://goldcoastschools.com/about-us/gold-coast-campus-locations/ \n  \nIf you have any questions about your Contractor Exam Prep Program\, please reach out to us at Contractor@GoldCoastSchools.com or call us at 1-800-732-9140.
URL:https://goldcoastschools.com/event/ac-cram-workshop-doral-and-zoom/2023-02-26/
CATEGORIES:AC (A/B) and Mechanical
END:VEVENT
BEGIN:VEVENT
DTSTART;TZID=America/New_York:20230228T183000
DTEND;TZID=America/New_York:20230228T210000
DTSTAMP:20260421T000435
CREATED:20230130T151027Z
LAST-MODIFIED:20230619T131937Z
UID:10002448-1677609000-1677618000@goldcoastschools.com
SUMMARY:AC and Mechanical Weeknight Class: Tamarac and Zoom
DESCRIPTION:Welcome to the AC and Mechanical weeknight exam prep session. This AC Trade-Specific content review session is for students wishing to obtain their Class A/B or Mechanical Contractors licenses and will be held the last two Tuesdays and Thursdays of each month from 6:30pm to 9:00pm at our Tamarac campus or via Zoom. Bring all of your Trade books to the weeknight class – click here to access the most recent list of the reference books allowed for the AC and Mechanical Exams: http://www.myfloridalicense.com/DBPR/examination-information/construction-examinations-reference-lists/ \n  \nClick here to access the DBPR Candidate Information Booklet for all Division I and II License Categories (Excluding Plumbing): http://www.myfloridalicense.com/dbpr/servop/testing/documents/const_cib.pdf \n  \nClick here for a list of Gold Coast Schools Campus locations: https://goldcoastschools.com/about-us/gold-coast-campus-locations/ \n  \nIf you have any questions about your Contractor Exam Prep Program\, please reach out to us at Contractor@GoldCoastSchools.com or call us at 1-800-732-9140. \n 
URL:https://goldcoastschools.com/event/ac-weeknight-7/2023-02-28/
CATEGORIES:AC (A/B) and Mechanical
END:VEVENT
END:VCALENDAR