BEGIN:VCALENDAR
VERSION:2.0
PRODID:-//Gold Coast Schools - ECPv6.15.20//NONSGML v1.0//EN
CALSCALE:GREGORIAN
METHOD:PUBLISH
X-ORIGINAL-URL:https://goldcoastschools.com
X-WR-CALDESC:Events for Gold Coast Schools
REFRESH-INTERVAL;VALUE=DURATION:PT1H
X-Robots-Tag:noindex
X-PUBLISHED-TTL:PT1H
BEGIN:VTIMEZONE
TZID:America/New_York
BEGIN:DAYLIGHT
TZOFFSETFROM:-0500
TZOFFSETTO:-0400
TZNAME:EDT
DTSTART:20280312T070000
END:DAYLIGHT
BEGIN:STANDARD
TZOFFSETFROM:-0400
TZOFFSETTO:-0500
TZNAME:EST
DTSTART:20281105T060000
END:STANDARD
BEGIN:DAYLIGHT
TZOFFSETFROM:-0500
TZOFFSETTO:-0400
TZNAME:EDT
DTSTART:20290311T070000
END:DAYLIGHT
BEGIN:STANDARD
TZOFFSETFROM:-0400
TZOFFSETTO:-0500
TZNAME:EST
DTSTART:20291104T060000
END:STANDARD
BEGIN:DAYLIGHT
TZOFFSETFROM:-0500
TZOFFSETTO:-0400
TZNAME:EDT
DTSTART:20300310T070000
END:DAYLIGHT
BEGIN:STANDARD
TZOFFSETFROM:-0400
TZOFFSETTO:-0500
TZNAME:EST
DTSTART:20301103T060000
END:STANDARD
END:VTIMEZONE
BEGIN:VEVENT
DTSTART;TZID=America/New_York:20290502T110000
DTEND;TZID=America/New_York:20290502T130000
DTSTAMP:20260420T171236
CREATED:20251120T160813Z
LAST-MODIFIED:20260223T212242Z
UID:10005145-1872414000-1872421200@goldcoastschools.com
SUMMARY:Virtual Office Hours
DESCRIPTION:Zoom Only – Bring Your Questions \nWelcome to the Gold Coast School of Construction Office Hours hosted every Wednesday from 11:00am to 1:00pm EST via Zoom-Only. \n  \nThis is an open forum session with the Program Director Chris Clausing – no set topic or class topic. Bring your questions about the program content\, practice questions\, exam registration or license application. This is a first come\, first serve format. \n  \nThe Office Hours Zoom link is located in your student account “Clausing’s Corner – Virtual Office Hours (Wednesdays)”. \n  \nClick this link to access the most recent list of the reference books allowed for the Business and Finance and Division I and II Trade Exams: http://www.myfloridalicense.com/DBPR/examination-information/construction-examinations-reference-lists/ \n  \nClick this link for a list of Gold Coast Schools Campus locations: https://goldcoastschools.com/about-us/gold-coast-campus-locations/ \n  \nIf you have any questions about your Contractor Exam Prep Program\, please reach out to us at Contractor@GoldCoastSchools.com or call us at 1-800-732-9140.
URL:https://goldcoastschools.com/event/office-hours-zoom-only-bring-your-questions-2-2/2029-05-02/
CATEGORIES:AC (A/B) and Mechanical,Building Inspector,General Contractor,Home Inspector,Plumbing Contractor,Pool / Spa Contractor,Roofing Contractor
END:VEVENT
BEGIN:VEVENT
DTSTART;TZID=America/New_York:20290509T110000
DTEND;TZID=America/New_York:20290509T130000
DTSTAMP:20260420T171236
CREATED:20251120T160813Z
LAST-MODIFIED:20260223T212242Z
UID:10005146-1873018800-1873026000@goldcoastschools.com
SUMMARY:Virtual Office Hours
DESCRIPTION:Zoom Only – Bring Your Questions \nWelcome to the Gold Coast School of Construction Office Hours hosted every Wednesday from 11:00am to 1:00pm EST via Zoom-Only. \n  \nThis is an open forum session with the Program Director Chris Clausing – no set topic or class topic. Bring your questions about the program content\, practice questions\, exam registration or license application. This is a first come\, first serve format. \n  \nThe Office Hours Zoom link is located in your student account “Clausing’s Corner – Virtual Office Hours (Wednesdays)”. \n  \nClick this link to access the most recent list of the reference books allowed for the Business and Finance and Division I and II Trade Exams: http://www.myfloridalicense.com/DBPR/examination-information/construction-examinations-reference-lists/ \n  \nClick this link for a list of Gold Coast Schools Campus locations: https://goldcoastschools.com/about-us/gold-coast-campus-locations/ \n  \nIf you have any questions about your Contractor Exam Prep Program\, please reach out to us at Contractor@GoldCoastSchools.com or call us at 1-800-732-9140.
URL:https://goldcoastschools.com/event/office-hours-zoom-only-bring-your-questions-2-2/2029-05-09/
CATEGORIES:AC (A/B) and Mechanical,Building Inspector,General Contractor,Home Inspector,Plumbing Contractor,Pool / Spa Contractor,Roofing Contractor
END:VEVENT
BEGIN:VEVENT
DTSTART;TZID=America/New_York:20290516T110000
DTEND;TZID=America/New_York:20290516T130000
DTSTAMP:20260420T171236
CREATED:20251120T160813Z
LAST-MODIFIED:20260223T212242Z
UID:10005147-1873623600-1873630800@goldcoastschools.com
SUMMARY:Virtual Office Hours
DESCRIPTION:Zoom Only – Bring Your Questions \nWelcome to the Gold Coast School of Construction Office Hours hosted every Wednesday from 11:00am to 1:00pm EST via Zoom-Only. \n  \nThis is an open forum session with the Program Director Chris Clausing – no set topic or class topic. Bring your questions about the program content\, practice questions\, exam registration or license application. This is a first come\, first serve format. \n  \nThe Office Hours Zoom link is located in your student account “Clausing’s Corner – Virtual Office Hours (Wednesdays)”. \n  \nClick this link to access the most recent list of the reference books allowed for the Business and Finance and Division I and II Trade Exams: http://www.myfloridalicense.com/DBPR/examination-information/construction-examinations-reference-lists/ \n  \nClick this link for a list of Gold Coast Schools Campus locations: https://goldcoastschools.com/about-us/gold-coast-campus-locations/ \n  \nIf you have any questions about your Contractor Exam Prep Program\, please reach out to us at Contractor@GoldCoastSchools.com or call us at 1-800-732-9140.
URL:https://goldcoastschools.com/event/office-hours-zoom-only-bring-your-questions-2-2/2029-05-16/
CATEGORIES:AC (A/B) and Mechanical,Building Inspector,General Contractor,Home Inspector,Plumbing Contractor,Pool / Spa Contractor,Roofing Contractor
END:VEVENT
BEGIN:VEVENT
DTSTART;TZID=America/New_York:20290518T183000
DTEND;TZID=America/New_York:20290518T210000
DTSTAMP:20260420T171236
CREATED:20250930T165410Z
LAST-MODIFIED:20250930T204230Z
UID:10007149-1873823400-1873832400@goldcoastschools.com
SUMMARY:Module 7: AIA / Contracts / Lien Law (FS 713) / Project Management (BF/CA Exam Content) - WEB Only (English)  or Tamarac In-Class & WEB (ESPANOL) and Zoom
DESCRIPTION:Welcome to the Weeknight Business and Finance Exam Prep Module Class. The purpose of each Module class is to prepare you for content that will be covered on the Business and Finance exam. The Instructor will guide you through the content for each Module\, reviewing important concepts and reference book sections that have traditionally been on previous exams. Weeknight Module classes are hosted Monday – Thursday from 6:30pm to 9:00pm (on-campus and Zoom options). \n  \nPLEASE NOTE: You DO NOT need to attend the Module classes in numerical order. Each class is independent of the other and covers a specific content area of the exam. \n  \nHere is a list of the Module Classes required for your Business and Finance (BF) Exam Prep Program and the reference books to bring for each Module. There are also Modules the first half of each month that are relevant for the Contract Administration (CA) exam for our Division I (GC\, BC and RC) students. We recommend that you attend the Live weeknight classes or watch the On-Demand video of each Module at least twice. Then\, attempt the Module Practice Exams to measure how well you can find the answers in the reference books. \n  \nModule 1: Business Structures & Licensing (BF and CA Exam Content) – Contractors Manual \nModule 2: Bookkeeping Principles (BF Exam Content Only) – Contractors Manual and Builders Guide to Accounting \nModule 3: Financial Accounting Principles (BF Exam Content Only) – Contractors Manual and Builders Guide to Accounting \nModule 4: Construction Cost Accounting (BF Exam Content Only) – Contractors Manual and Builders Guide to Accounting \nModule 5: Insurance & Bonds (BF and CA Exam Content) – Contractors Manual and AIA Documents 201\, 401 and 701 \nModule 6: Employment Practices / Worker’s Comp / Safety (BF and CA Exam Content) – Contractors Manual and AIA Documents 201\, 401 and 701 \nModule 7: AIA / Contracts / Lien Law (FS 713) / Project Management (BF and CA Exam Content) – Contractors Manual and AIA Documents 201\, 401 and 701 \n  \nClick this link to access the most recent list of the reference books allowed for the Business and Finance Exam (and the Contract Administration Exam): http://www.myfloridalicense.com/DBPR/examination-information/construction-examinations-reference-lists/ \n  \nClick this link for a list of Gold Coast Schools Campus locations: https://goldcoastschools.com/about-us/gold-coast-campus-locations/ \n  \nIf you have any questions about your Contractor Exam Prep Program\, please reach out to us at Contractor@GoldCoastSchools.com or call us at 1-800-732-9140.
URL:https://goldcoastschools.com/event/module-7-aia-contracts-lien-law-fs-713-project-management-bf-ca-exam-content-web-only-english-or-tamarac-in-class-web-espanol-and-zoom/2029-05-18/
CATEGORIES:AC (A/B) and Mechanical,General Contractor,Plumbing Contractor,Pool / Spa Contractor,Roofing Contractor
END:VEVENT
BEGIN:VEVENT
DTSTART;TZID=America/New_York:20290523T110000
DTEND;TZID=America/New_York:20290523T130000
DTSTAMP:20260420T171236
CREATED:20251120T160813Z
LAST-MODIFIED:20260223T212242Z
UID:10005148-1874228400-1874235600@goldcoastschools.com
SUMMARY:Virtual Office Hours
DESCRIPTION:Zoom Only – Bring Your Questions \nWelcome to the Gold Coast School of Construction Office Hours hosted every Wednesday from 11:00am to 1:00pm EST via Zoom-Only. \n  \nThis is an open forum session with the Program Director Chris Clausing – no set topic or class topic. Bring your questions about the program content\, practice questions\, exam registration or license application. This is a first come\, first serve format. \n  \nThe Office Hours Zoom link is located in your student account “Clausing’s Corner – Virtual Office Hours (Wednesdays)”. \n  \nClick this link to access the most recent list of the reference books allowed for the Business and Finance and Division I and II Trade Exams: http://www.myfloridalicense.com/DBPR/examination-information/construction-examinations-reference-lists/ \n  \nClick this link for a list of Gold Coast Schools Campus locations: https://goldcoastschools.com/about-us/gold-coast-campus-locations/ \n  \nIf you have any questions about your Contractor Exam Prep Program\, please reach out to us at Contractor@GoldCoastSchools.com or call us at 1-800-732-9140.
URL:https://goldcoastschools.com/event/office-hours-zoom-only-bring-your-questions-2-2/2029-05-23/
CATEGORIES:AC (A/B) and Mechanical,Building Inspector,General Contractor,Home Inspector,Plumbing Contractor,Pool / Spa Contractor,Roofing Contractor
END:VEVENT
BEGIN:VEVENT
DTSTART;TZID=America/New_York:20290530T110000
DTEND;TZID=America/New_York:20290530T130000
DTSTAMP:20260420T171236
CREATED:20251120T160813Z
LAST-MODIFIED:20260223T212242Z
UID:10005149-1874833200-1874840400@goldcoastschools.com
SUMMARY:Virtual Office Hours
DESCRIPTION:Zoom Only – Bring Your Questions \nWelcome to the Gold Coast School of Construction Office Hours hosted every Wednesday from 11:00am to 1:00pm EST via Zoom-Only. \n  \nThis is an open forum session with the Program Director Chris Clausing – no set topic or class topic. Bring your questions about the program content\, practice questions\, exam registration or license application. This is a first come\, first serve format. \n  \nThe Office Hours Zoom link is located in your student account “Clausing’s Corner – Virtual Office Hours (Wednesdays)”. \n  \nClick this link to access the most recent list of the reference books allowed for the Business and Finance and Division I and II Trade Exams: http://www.myfloridalicense.com/DBPR/examination-information/construction-examinations-reference-lists/ \n  \nClick this link for a list of Gold Coast Schools Campus locations: https://goldcoastschools.com/about-us/gold-coast-campus-locations/ \n  \nIf you have any questions about your Contractor Exam Prep Program\, please reach out to us at Contractor@GoldCoastSchools.com or call us at 1-800-732-9140.
URL:https://goldcoastschools.com/event/office-hours-zoom-only-bring-your-questions-2-2/2029-05-30/
CATEGORIES:AC (A/B) and Mechanical,Building Inspector,General Contractor,Home Inspector,Plumbing Contractor,Pool / Spa Contractor,Roofing Contractor
END:VEVENT
END:VCALENDAR